BEGIN:VCALENDAR
VERSION:2.0
PRODID:-//ChamberMaster//Event Calendar 2.0//EN
METHOD:PUBLISH
X-PUBLISHED-TTL:P3D
REFRESH-INTERVAL:P3D
CALSCALE:GREGORIAN
BEGIN:VEVENT
DTSTART:20200211T180000Z
DTEND:20200211T200000Z
X-MICROSOFT-CDO-ALLDAYEVENT:FALSE
SUMMARY:Zvago Stillwater Informational Lunch
DESCRIPTION:Why rent when you can own? Join us for an informational lunch highlighting Zvago Stillwater\, a unique and desirable cooperative living community for ages 62* and better. Maintenance-free one-level living at Zvago allows you to spend more time doing what you love. It's a home with freedom and flexibility\, in an environment where like-minded people become a true community. With presale underway\, prime homes are still available. Secure your home today and enjoy all of the benefits Zvago Cooperative Living has to offer!\n\n\n\nRSVP today! Call 952-206-2006 or email nicoledohm@zvagoliving.com\n\nLight lunch and refreshments will be served.\n\n*Attend this event and receive a gift card to Dock Cafe
X-ALT-DESC;FMTTYPE=text/html:<span style="color:rgb(54\, 73\, 95)\; font-family:arial\,verdana\,helvetica\,sans-serif\; font-size:16px">Why rent when you can own? Join us for an informational lunch highlighting Zvago Stillwater\, a unique and desirable cooperative living community for ages 62* and better. Maintenance-free one-level living at Zvago allows you to spend more time doing what you love. It&rsquo\;s a home with freedom and flexibility\, in an environment where like-minded people become a true community. With presale underway\, prime homes are still available. Secure your home today and enjoy all of the benefits Zvago Cooperative Living has to offer!<br />\n<br />\nRSVP today! Call 952-206-2006 or email <a href="mailto:nicoledohm@zvagoliving.com">nicoledohm@zvagoliving.com</a><br />\n<em><span style="font-size:14px">Light lunch and refreshments will be served.<br />\n*Attend this event and receive a gift card to Dock Cafe</span></em></span>
LOCATION:
UID:e.257.30223
SEQUENCE:3
DTSTAMP:20260422T010646Z
URL:http://members.greaterstillwaterchamber.com/events/details/zvago-stillwater-informational-lunch-12-19-2019-30223
END:VEVENT

END:VCALENDAR
