BEGIN:VCALENDAR
VERSION:2.0
PRODID:-//ChamberMaster//Event Calendar 2.0//EN
METHOD:PUBLISH
X-PUBLISHED-TTL:P3D
REFRESH-INTERVAL:P3D
CALSCALE:GREGORIAN
BEGIN:VEVENT
DTSTART:20200805T140000Z
DTEND:20200805T150000Z
X-MICROSOFT-CDO-ALLDAYEVENT:FALSE
SUMMARY:weMeet B2B Monthly Member Meeting
DESCRIPTION:Business to Business\, also called B2B\, refers to business that is conducted between companies\, rather than between a company and individual consumers. The mission of weMeet B2B is to provide a meeting structure and environment where Greater Stillwater Chamber of Commerce Members can promote Business to Business products and services to local businesses within the greater Stillwater area. The Annual Dues for weMeet B2B is $99\, which will be sent as an invoice once the application process is completed. Activation in the weMeet B2B group will begin upon invoice payment. The dues are non-refundable. \n\n\n\nContact the group Chair or the Chamber directly if you would like to attend as a guest to weMeet B2B. However\, this meeting is for members only\, you may attend as a guest to the meeting on the 3rd Wednesday of the month\, 4:00 pm at Lolito's on Main Street in Stillwater. HERE is the application if you would like to become a weMeet B2B member.
X-ALT-DESC;FMTTYPE=text/html:<span style="font-family: Raleway\, sans-serif\; font-size: 16px\;">Business to Business\, also called B2B\, refers to business that is conducted between companies\, rather than between a company and individual consumers. The mission of weMeet B2B is to provide a meeting structure and environment where Greater Stillwater Chamber of Commerce Members can promote Business to Business products and services to local businesses within the greater Stillwater area. The Annual Dues for weMeet B2B is $99\, which will be sent as an invoice once the application process is completed. Activation in the weMeet B2B group will begin upon invoice payment. The dues are non-refundable.&nbsp\;</span><br />\n<br />\n<span style="font-size:16px\;"><span style="font-family:arial\;"><span style="border:1pt none windowtext\;padding:0in\;">Contact the group&nbsp\;Chair or the Chamber directly if you would like to attend as a guest to weMeet B2B. However\, this meeting is for members only\, you may attend as a guest to the meeting on the 3rd Wednesday of the month\, 4:00 pm at Lolito&#39\;s on Main Street in Stillwater. <a href="https://greaterstillwaterchamber.com/form/view/18787">HERE</a> is the application if you would like to become a weMeet B2B member.</span></span></span>
LOCATION:Water Street Inn Boardroom A 101 Water Street S Stillwater\, MN 55082
UID:e.257.30418
SEQUENCE:3
DTSTAMP:20260421T164923Z
URL:http://members.greaterstillwaterchamber.com/events/details/wemeet-b2b-monthly-meeting-08-05-2020-30418
END:VEVENT

END:VCALENDAR
