BEGIN:VCALENDAR
VERSION:2.0
PRODID:-//ChamberMaster//Event Calendar 2.0//EN
METHOD:PUBLISH
X-PUBLISHED-TTL:P3D
REFRESH-INTERVAL:P3D
CALSCALE:GREGORIAN
BEGIN:VEVENT
DTSTART:20201029T000000Z
DTEND:20201029T020000Z
X-MICROSOFT-CDO-ALLDAYEVENT:FALSE
SUMMARY:Wednesday Night Films: Hocus Pocus (1993)
DESCRIPTION:In the year 1693\, three sisters\, Winifred\, Mary and Sarah were executed for their practicing witchcraft but not before their living book of spells revealed to them a curse to bring the three back from the dead. 3\n\n00 years later\, teenager Max Dennison is a newcomer to Salem\, struggling to adjust after growing up in California...\n\n\n\nGeneral Admission Socially Distanced Seating Bar Service Available   open at 6pm to discuss our love of cinema\n\nMasks Required Inside
X-ALT-DESC;FMTTYPE=text/html:In the year 1693\, three sisters\, Winifred\, Mary and Sarah were executed for their practicing witchcraft but not before their living book of spells revealed to them a curse to bring the three back from the dead. 3<br />\n00 years later\, teenager Max Dennison is a newcomer to Salem\, struggling to adjust after growing up in California...<br />\n<br />\nGeneral Admission Socially Distanced Seating Bar Service Available &ndash\; open at 6pm to discuss our love of cinema<br />\nMasks Required Inside
LOCATION:Stillwater Zephyr Theatre
UID:e.257.31505
SEQUENCE:3
DTSTAMP:20260421T135409Z
URL:http://members.greaterstillwaterchamber.com/events/details/wednesday-night-films-hocus-pocus-1993-10-28-2020-31505
END:VEVENT

END:VCALENDAR
