BEGIN:VCALENDAR
VERSION:2.0
PRODID:-//ChamberMaster//Event Calendar 2.0//EN
METHOD:PUBLISH
X-PUBLISHED-TTL:P3D
REFRESH-INTERVAL:P3D
CALSCALE:GREGORIAN
BEGIN:VEVENT
DTSTART;VALUE=DATE:20201130
DTEND;VALUE=DATE:20201205
TRANSP:TRANSPARENT
X-MICROSOFT-CDO-ALLDAYEVENT:TRUE
SUMMARY:Virtual Holiday Party-Stillwater Skin
DESCRIPTION:Stillwater Skin \n\nHoliday Extravaganza!!\n\n\n\nStillwater Skin\n\n50% Stillwater Skin Original Products.\n\nPurchase $1000 gift card receive $250 to keep\n\nPurchase a $500 gift card and receive a $125 to keep or gift.\n\nPurchase $200 gift card and receive a $50 gift card to keep or gift. \n\n\n\nGift cards cannot be used to purchase already reduced memberships.  Gift cards are not valid towards 50% off products.
X-ALT-DESC;FMTTYPE=text/html:<strong><em><span style="color:#C00000"><span style="font-family:lucida calligraphy"><span style="font-size:28.0pt">Stillwater Skin </span></span></span></em></strong><br />\n<strong><em><span style="color:#C00000"><span style="font-family:lucida calligraphy"><span style="font-size:28.0pt">Holiday Extravaganza!!</span></span></span></em></strong><br />\n<br />\nStillwater Skin<br />\n50% Stillwater Skin Original Products.<br />\nPurchase $1000 gift card receive $250 to keep<br />\nPurchase a $500 gift card and receive a $125 to keep or gift.<br />\nPurchase $200 gift card and receive a $50 gift card to keep or gift.&nbsp\;<br />\n<br />\nGift cards cannot be used to purchase already reduced memberships.&nbsp\; Gift cards are not valid towards 50% off products.<br />\n<br />\n&nbsp\;
LOCATION:Stillwater Skin & Medical Spa 6381 North Osgood Avenue Stillwater\, MN 55082
UID:e.257.31514
SEQUENCE:3
DTSTAMP:20260421T113418Z
URL:http://members.greaterstillwaterchamber.com/events/details/virtual-holiday-party-stillwater-skin-31514
END:VEVENT

END:VCALENDAR
