BEGIN:VCALENDAR
VERSION:2.0
PRODID:-//ChamberMaster//Event Calendar 2.0//EN
METHOD:PUBLISH
X-PUBLISHED-TTL:P3D
REFRESH-INTERVAL:P3D
CALSCALE:GREGORIAN
BEGIN:VEVENT
DTSTART:20200216T010000Z
DTEND:20200216T033000Z
X-MICROSOFT-CDO-ALLDAYEVENT:FALSE
SUMMARY:Tonic Sol-fa Concert
DESCRIPTION:Join us for an evening of music and entertainment with a nod to Valentine's Day. Whether you want to bring a date or just hang out with some friends and enjoy a great show\, make plans for 7:00pm Saturday\, February 15\, to see Tonic Sol-fa! Tickets are $25. Check out the VIP ticket option for the February show to make the evening even more special for your night out. VIP tickets are $45 and include a pre-show meet and greet with the band at 6:00 p.m.\, Tonic Sol-fa autographed CD\, glass of red\, white\, or chocolate wine (or other beverage of choice)\, chocolate-covered strawberries\, and preferred seating for the show.
X-ALT-DESC;FMTTYPE=text/html:Join us for an evening of music and entertainment with a nod to Valentine&rsquo\;s Day. Whether you want to bring a date or just hang out with some friends and enjoy a great show\, make plans for 7:00pm Saturday\, February 15\, to see Tonic Sol-fa! Tickets are $25. Check out the VIP ticket option for the February show to make the evening even more special for your night out. VIP tickets are $45 and include a pre-show meet and greet with the band at 6:00 p.m.\, Tonic Sol-fa autographed CD\, glass of red\, white\, or chocolate wine (or other beverage of choice)\, chocolate-covered strawberries\, and preferred seating for the show.
LOCATION:601 Main St.\, N.\, Stillwater\, MN
UID:e.257.30393
SEQUENCE:3
DTSTAMP:20260422T010425Z
URL:http://members.greaterstillwaterchamber.com/events/details/tonic-sol-fa-concert-30393
END:VEVENT

END:VCALENDAR
