BEGIN:VCALENDAR
VERSION:2.0
PRODID:-//ChamberMaster//Event Calendar 2.0//EN
METHOD:PUBLISH
X-PUBLISHED-TTL:P3D
REFRESH-INTERVAL:P3D
CALSCALE:GREGORIAN
BEGIN:VEVENT
DTSTART:20200925T210000Z
DTEND:20200926T023000Z
X-MICROSOFT-CDO-ALLDAYEVENT:FALSE
SUMMARY:The Zephyr Theatre Fundraising Gala 2020
DESCRIPTION:Come for an evening of food\, drink and artistic entertainment! The Zephyr Theatre's 2020 progressive gala starts off at the Zephyr Theatre before you board one of the Stillwater Trolley Company's trolleys to be taken on an artistic journey. Along the way\, guests will make stops at The Lumberjack bar and MatchStick Restaurant and Spirits before being entertained on Stillwater Riverboats' own paddle boats! Each venue will feature a variety of artistic expressions throughout the night\, highlighting the importance and impact of art in our lives. Let the Art Move You during this evening of appreciation and support for arts and art supporters in our community.
X-ALT-DESC;FMTTYPE=text/html:Come for an evening of food\, drink and artistic entertainment! The Zephyr Theatre&rsquo\;s 2020 progressive gala starts off at the Zephyr Theatre before you board one of the Stillwater Trolley Company&rsquo\;s trolleys to be taken on an artistic journey. Along the way\, guests will make stops at The Lumberjack bar and MatchStick Restaurant and Spirits before being entertained on Stillwater Riverboats&rsquo\; own paddle boats! Each venue will feature a variety of artistic expressions throughout the night\, highlighting the importance and impact of art in our lives. Let the Art Move You during this evening of appreciation and support for arts and art supporters in our community.
LOCATION:The Zephyr Theatre\, Stillwater MN
UID:e.257.31475
SEQUENCE:3
DTSTAMP:20260421T151639Z
URL:http://members.greaterstillwaterchamber.com/events/details/the-zephyr-theatre-fundraising-gala-2020-31475
END:VEVENT

END:VCALENDAR
