BEGIN:VCALENDAR
VERSION:2.0
PRODID:-//ChamberMaster//Event Calendar 2.0//EN
METHOD:PUBLISH
X-PUBLISHED-TTL:P3D
REFRESH-INTERVAL:P3D
CALSCALE:GREGORIAN
BEGIN:VEVENT
DTSTART:20191002T123000Z
DTEND:20191002T150000Z
X-MICROSOFT-CDO-ALLDAYEVENT:FALSE
SUMMARY:The Future of Downtown Stillwater OPEN FORUM
DESCRIPTION:The Future of Downtown Stillwater   Join City staff in a collaborative discussion of the future of Downtown Stillwater ..including the:\n\n~Downtown Chapter of the 2040 Comprehensive Plan\n\n~5-year Capital Improvement Plan\n\n~Loop Trail Completion\n\n~Pedestrian Plaza planning\n\n~Events Planning\n\n~Sustainable Stillwater Downtown efforts\n\n~Garbage/recycling projects\n\n~Downtown parking analysis\n\n~Downtown streetlight plan\n\n~Riverbank stabilization project\n\n~Aiple and Bridgeview Parks planning\, and\n\n~Public safety items.\n\n\n\nThis is your opportunity to learn more and ask questions!  \n\nFREE TO ATTEND! This will be an open forum with the opportunity to talk directly with City staff about specific plans and projects.
X-ALT-DESC;FMTTYPE=text/html:<div><br />\n<span style="font-size:16px\;"><span style="font-family:arial\;"><span style="color:#0033cc\;"><span style="background-color: rgb(255\, 255\, 255)\;"><span style="font-size:18px\;"><em><strong>The Future of Downtown Stillwater</strong></em></span></span></span><span style="color:#0000CD\;"><span style="background-color: rgb(255\, 255\, 255)\;"><span style="font-size:18px\;"><em><strong>&nbsp\;</strong></em></span></span></span><span style="color: rgb(34\, 34\, 34)\; background-color: rgb(255\, 255\, 255)\;">&ndash\; </span><span style="color:#000000\;">Join City staff in a collaborative discussion of the future of Downtown Stillwater&hellip\;..including the:<br />\n~Downtown Chapter of the 2040 Comprehensive Plan<br />\n~5-year Capital Improvement Plan<br />\n~Loop Trail Completion<br />\n~Pedestrian Plaza planning<br />\n~Events Planning<br />\n~Sustainable Stillwater Downtown efforts<br />\n~Garbage/recycling projects<br />\n~Downtown parking analysis<br />\n~Downtown streetlight plan<br />\n~Riverbank stabilization project<br />\n~Aiple and Bridgeview Parks planning\, and<br />\n~Public safety items.<br />\n<br />\n<strong>This is your opportunity to learn more and&nbsp\;ask questions!&nbsp\; </strong></span><br />\n<strong><span style="color:#0033cc\;"><em>FREE TO ATTEND!</em></span></strong><span style="color:#000000\;"> This will be an open forum with the opportunity to talk directly with City staff about specific plans and projects.</span></span></span></div>\n
LOCATION:The Lowell Inn Banquet Center 102 N. Second Street downtown Stillwater\, MN 55082 There is a parking ramp connected to the Lowell Inn Banquet Center. *There is also street parking available.
UID:e.257.29966
SEQUENCE:3
DTSTAMP:20260422T090942Z
URL:http://members.greaterstillwaterchamber.com/events/details/the-future-of-downtown-stillwater-open-forum-29966
END:VEVENT

END:VCALENDAR
