BEGIN:VCALENDAR
VERSION:2.0
PRODID:-//ChamberMaster//Event Calendar 2.0//EN
METHOD:PUBLISH
X-PUBLISHED-TTL:P3D
REFRESH-INTERVAL:P3D
CALSCALE:GREGORIAN
BEGIN:VEVENT
DTSTART;VALUE=DATE:20251009
DTEND;VALUE=DATE:20251010
TRANSP:TRANSPARENT
X-MICROSOFT-CDO-ALLDAYEVENT:TRUE
SUMMARY:The Butcher & Bourbon Dinner
DESCRIPTION:This fall\, we're raising a glass to something new. Join us for the first-ever Butcher & Bourbon Dinner\, an evening where bold cuts meet smooth Four Roses Bourbon cocktails.\n\nFrom the opening amuse to the decadent dessert cocktail\, every course is crafted to celebrate the season and the spirit of bourbon.\n\nSeats are limited   reserve now for this one-of-a-kind fall experience.\n\nTickets & Menu: https://lakeelmoinn.com/butcher-and-bourbon
X-ALT-DESC;FMTTYPE=text/html:<p>This fall\, we&rsquo\;re raising a glass to something new. Join us for the&nbsp\;first-ever Butcher &amp\; Bourbon Dinner\, an evening where bold cuts meet smooth Four Roses Bourbon cocktails.</p>\n\n<p>From the opening amuse to the decadent dessert cocktail\, every course is crafted to celebrate the season and the spirit of bourbon.</p>\n\n<p>Seats are limited &mdash\; reserve now for this one-of-a-kind fall experience.</p>\n\n<p>Tickets &amp\; Menu:&nbsp\;<a href="https://lakeelmoinn.com/butcher-and-bourbon" style="box-sizing: border-box\; color: rgb(0\, 122\, 61)\; text-decoration: none\; overflow-wrap: break-word\; outline: 0px\;">https://lakeelmoinn.com/butcher-and-bourbon</a></p>\n
LOCATION:Lake Elmo Inn - 3442 Lake Elmo Ave N\, Lake Elmo\, MN 55042
UID:e.257.46377
SEQUENCE:3
DTSTAMP:20260421T220539Z
URL:http://members.greaterstillwaterchamber.com/events/details/the-butcher-bourbon-dinner-46377
END:VEVENT

END:VCALENDAR
