BEGIN:VCALENDAR
VERSION:2.0
PRODID:-//ChamberMaster//Event Calendar 2.0//EN
METHOD:PUBLISH
X-PUBLISHED-TTL:P3D
REFRESH-INTERVAL:P3D
CALSCALE:GREGORIAN
BEGIN:VEVENT
DTSTART:20250907T180000Z
DTEND:20250907T210000Z
X-MICROSOFT-CDO-ALLDAYEVENT:FALSE
SUMMARY:Sunday Live Music on the Freight House Patio
DESCRIPTION:Join the Freight House for Live Music on the Patio from 1-4pm.
X-ALT-DESC;FMTTYPE=text/html:Join the Freight House for Live Music on the Patio from 1-4pm.&nbsp\;
LOCATION:The Freight House 305 Water Street South Stillwater\, MN 55082
UID:e.257.42533
SEQUENCE:3
DTSTAMP:20260421T232121Z
URL:http://members.greaterstillwaterchamber.com/events/details/sunday-live-muisc-on-the-freight-house-patio-09-07-2025-42533
END:VEVENT

END:VCALENDAR
