BEGIN:VCALENDAR
VERSION:2.0
PRODID:-//ChamberMaster//Event Calendar 2.0//EN
METHOD:PUBLISH
X-PUBLISHED-TTL:P3D
REFRESH-INTERVAL:P3D
CALSCALE:GREGORIAN
BEGIN:VEVENT
DTSTART;VALUE=DATE:20200218
DTEND;VALUE=DATE:20200219
TRANSP:TRANSPARENT
X-MICROSOFT-CDO-ALLDAYEVENT:TRUE
SUMMARY:Stillwater Sunrise Rotary
DESCRIPTION:Nathan Arnold\, Engineer\, will discuss the Proposed Hwy 36 and Manning Interchange
X-ALT-DESC;FMTTYPE=text/html:Nathan Arnold\, Engineer\, will discuss the Proposed Hwy 36 and Manning Interchange
LOCATION:Lowell Inn\, Stillwater
UID:e.257.30402
SEQUENCE:3
DTSTAMP:20260422T010649Z
URL:http://members.greaterstillwaterchamber.com/events/details/stillwater-sunrise-rotary-02-18-2020-30402
END:VEVENT

END:VCALENDAR
