BEGIN:VCALENDAR
VERSION:2.0
PRODID:-//ChamberMaster//Event Calendar 2.0//EN
METHOD:PUBLISH
X-PUBLISHED-TTL:P3D
REFRESH-INTERVAL:P3D
CALSCALE:GREGORIAN
BEGIN:VEVENT
DTSTART;VALUE=DATE:20200204
DTEND;VALUE=DATE:20200205
TRANSP:TRANSPARENT
X-MICROSOFT-CDO-ALLDAYEVENT:TRUE
SUMMARY:Stillwater Sunrise Rotary
DESCRIPTION:Ted Kozlowski\, Stillwater Mayor\, will be doing a State of the City presentation
X-ALT-DESC;FMTTYPE=text/html:Ted Kozlowski\, Stillwater Mayor\, will be doing a State of the City presentation&nbsp\;
LOCATION:Lowell Inn\, Stillwater
UID:e.257.30400
SEQUENCE:3
DTSTAMP:20260422T010601Z
URL:http://members.greaterstillwaterchamber.com/events/details/stillwater-sunrise-rotary-02-04-2020-30400
END:VEVENT

END:VCALENDAR
