BEGIN:VCALENDAR
VERSION:2.0
PRODID:-//ChamberMaster//Event Calendar 2.0//EN
METHOD:PUBLISH
X-PUBLISHED-TTL:P3D
REFRESH-INTERVAL:P3D
CALSCALE:GREGORIAN
BEGIN:VEVENT
DTSTART:20191010T230000Z
DTEND:20191011T020000Z
X-MICROSOFT-CDO-ALLDAYEVENT:FALSE
SUMMARY:Stillwater Rotary Club's 100 Year Anniversary Celebration
DESCRIPTION:Stillwater Rotary invites you to join us in celebrating 100 years of service in the community and recognizing the community that supports Rotary.\n\n\n\nPlease join us for fellowship\, dinner\, and highlights of our first century. \n\nMusic through the decades provided by Stillwater Area High School musicians.\n\n\n\nOctober 10\, 2019 6:00 p.m. - 9:00 p.m. \n\nJX Event Center Stillwater\, MN \n\n$75 for one ticket \n\n$100 for two tickets \n\n$400 for a table for 8 \n\n\n\nCatered by Lake Elmo Inn\n\nOption 1 : Chicken Calvados in apple brandy cream sauce \n\nOption 2: Top Sirloin with saut ed mushrooms \n\nOption 3: Butternut Squash Ravioli \n\n\n\nPlease purchase tickets by October 1 at www.100StillwaterRotary.com\n\n\n\n*Through the generosity of our sponsors \, a limited number of complimentary tickets are available. \n\n\n\nThank you to our amazing sponsors:\n\nAndersen Corporation\n\nLakeview Hospital\n\nStillwater Motors\n\nFirst State Bank & Trust\n\nGalowitz-Olson PLLC\, Attorneys at Law\n\nLake Elmo Bank
X-ALT-DESC;FMTTYPE=text/html:<span style="font-size:16px\;"><span style="font-family:arial\;"><span style="color: rgb(29\, 33\, 41)\; white-space: pre-wrap\;">Stillwater Rotary invites you to join us in celebrating 100 years of service in the community and recognizing the community that supports Rotary.</span><br style="color: rgb(29\, 33\, 41)\; font-family: Helvetica\, Arial\, sans-serif\; font-size: 14px\; white-space: pre-wrap\;" />\n<br style="color: rgb(29\, 33\, 41)\; font-family: Helvetica\, Arial\, sans-serif\; font-size: 14px\; white-space: pre-wrap\;" />\n<span style="color: rgb(29\, 33\, 41)\; white-space: pre-wrap\;">Please join us for fellowship\, dinner\, and highlights of our first century. </span><br style="color: rgb(29\, 33\, 41)\; font-family: Helvetica\, Arial\, sans-serif\; font-size: 14px\; white-space: pre-wrap\;" />\n<span style="color: rgb(29\, 33\, 41)\; white-space: pre-wrap\;">Music through the decades provided by Stillwater Area High School musicians.</span><br style="color: rgb(29\, 33\, 41)\; font-family: Helvetica\, Arial\, sans-serif\; font-size: 14px\; white-space: pre-wrap\;" />\n<br style="color: rgb(29\, 33\, 41)\; font-family: Helvetica\, Arial\, sans-serif\; font-size: 14px\; white-space: pre-wrap\;" />\n<span style="color: rgb(29\, 33\, 41)\; white-space: pre-wrap\;">October 10\, 2019 6:00 p.m. - 9:00 p.m. </span><br style="color: rgb(29\, 33\, 41)\; font-family: Helvetica\, Arial\, sans-serif\; font-size: 14px\; white-space: pre-wrap\;" />\n<span style="color: rgb(29\, 33\, 41)\; white-space: pre-wrap\;">JX Event Center Stillwater\, MN </span><br style="color: rgb(29\, 33\, 41)\; font-family: Helvetica\, Arial\, sans-serif\; font-size: 14px\; white-space: pre-wrap\;" />\n<span style="color: rgb(29\, 33\, 41)\; white-space: pre-wrap\;">$75 for one ticket </span><br style="color: rgb(29\, 33\, 41)\; font-family: Helvetica\, Arial\, sans-serif\; font-size: 14px\; white-space: pre-wrap\;" />\n<span style="color: rgb(29\, 33\, 41)\; white-space: pre-wrap\;">$100 for two tickets </span><br style="color: rgb(29\, 33\, 41)\; font-family: Helvetica\, Arial\, sans-serif\; font-size: 14px\; white-space: pre-wrap\;" />\n<span style="color: rgb(29\, 33\, 41)\; white-space: pre-wrap\;">$400 for a table for 8 </span><br style="color: rgb(29\, 33\, 41)\; font-family: Helvetica\, Arial\, sans-serif\; font-size: 14px\; white-space: pre-wrap\;" />\n<br style="color: rgb(29\, 33\, 41)\; font-family: Helvetica\, Arial\, sans-serif\; font-size: 14px\; white-space: pre-wrap\;" />\n<span style="color: rgb(29\, 33\, 41)\; white-space: pre-wrap\;">Catered by Lake Elmo Inn</span><br style="color: rgb(29\, 33\, 41)\; font-family: Helvetica\, Arial\, sans-serif\; font-size: 14px\; white-space: pre-wrap\;" />\n<span style="color: rgb(29\, 33\, 41)\; white-space: pre-wrap\;">Option 1 : Chicken Calvados in apple brandy cream sauce </span><br style="color: rgb(29\, 33\, 41)\; font-family: Helvetica\, Arial\, sans-serif\; font-size: 14px\; white-space: pre-wrap\;" />\n<span style="color: rgb(29\, 33\, 41)\; white-space: pre-wrap\;">Option 2: Top Sirloin with saut&eacute\;ed mushrooms </span><br style="color: rgb(29\, 33\, 41)\; font-family: Helvetica\, Arial\, sans-serif\; font-size: 14px\; white-space: pre-wrap\;" />\n<span style="color: rgb(29\, 33\, 41)\; white-space: pre-wrap\;">Option 3: Butternut Squash Ravioli </span><br style="color: rgb(29\, 33\, 41)\; font-family: Helvetica\, Arial\, sans-serif\; font-size: 14px\; white-space: pre-wrap\;" />\n<br style="color: rgb(29\, 33\, 41)\; font-family: Helvetica\, Arial\, sans-serif\; font-size: 14px\; white-space: pre-wrap\;" />\n<span style="color: rgb(29\, 33\, 41)\; white-space: pre-wrap\;">Please purchase tickets by October 1 at </span><a data-lynx-mode="hover" data-lynx-uri="https://l.facebook.com/l.php?u=http%3A%2F%2Fwww.100StillwaterRotary.com%2F%3Ffbclid%3DIwAR0DtQkTw4D7h_Dd-NOOnA0yevlMa-yc0HBXwPE6aYukYlNBfwRjjW0oflk&amp\;h=AT2puVw4icbo8mYKLlEASckk8-TDLbyxP3SqizRtThSFOQ5PqysMCFcUCMw9U0VwceLeZmEQKmlMaTw5avoCI9KEut4h23ITyPUP5ZHe7GUmEEadaaHG-N4EQXLyLukq2sa-VooFSC-CR09nXw" href="http://www.100stillwaterrotary.com/?fbclid=IwAR0DtQkTw4D7h_Dd-NOOnA0yevlMa-yc0HBXwPE6aYukYlNBfwRjjW0oflk" rel="nofollow noopener" style="color: rgb(56\, 88\, 152)\; cursor: pointer\; text-decoration-line: none\; font-family: Helvetica\, Arial\, sans-serif\; font-size: 14px\; white-space: pre-wrap\;" target="_blank">www.100StillwaterRotary.com</a><br style="color: rgb(29\, 33\, 41)\; font-family: Helvetica\, Arial\, sans-serif\; font-size: 14px\; white-space: pre-wrap\;" />\n<br style="color: rgb(29\, 33\, 41)\; font-family: Helvetica\, Arial\, sans-serif\; font-size: 14px\; white-space: pre-wrap\;" />\n<span style="color: rgb(29\, 33\, 41)\; white-space: pre-wrap\;">*Through the generosity of our sponsors \, a limited number of complimentary tickets are available. </span><br style="color: rgb(29\, 33\, 41)\; font-family: Helvetica\, Arial\, sans-serif\; font-size: 14px\; white-space: pre-wrap\;" />\n<br style="color: rgb(29\, 33\, 41)\; font-family: Helvetica\, Arial\, sans-serif\; font-size: 14px\; white-space: pre-wrap\;" />\n<span style="color: rgb(29\, 33\, 41)\; white-space: pre-wrap\;">Thank you to our amazing sponsors:</span><br style="color: rgb(29\, 33\, 41)\; font-family: Helvetica\, Arial\, sans-serif\; font-size: 14px\; white-space: pre-wrap\;" />\n<span style="color: rgb(29\, 33\, 41)\; white-space: pre-wrap\;">Andersen Corporation</span><br style="color: rgb(29\, 33\, 41)\; font-family: Helvetica\, Arial\, sans-serif\; font-size: 14px\; white-space: pre-wrap\;" />\n<span style="color: rgb(29\, 33\, 41)\; white-space: pre-wrap\;">Lakeview Hospital</span><br style="color: rgb(29\, 33\, 41)\; font-family: Helvetica\, Arial\, sans-serif\; font-size: 14px\; white-space: pre-wrap\;" />\n<span style="color: rgb(29\, 33\, 41)\; white-space: pre-wrap\;">Stillwater Motors</span><br style="color: rgb(29\, 33\, 41)\; font-family: Helvetica\, Arial\, sans-serif\; font-size: 14px\; white-space: pre-wrap\;" />\n<span style="color: rgb(29\, 33\, 41)\; white-space: pre-wrap\;">First State Bank &amp\; Trust</span><br style="color: rgb(29\, 33\, 41)\; font-family: Helvetica\, Arial\, sans-serif\; font-size: 14px\; white-space: pre-wrap\;" />\n<span style="color: rgb(29\, 33\, 41)\; white-space: pre-wrap\;">Galowitz-Olson PLLC\, Attorneys at Law</span><br style="color: rgb(29\, 33\, 41)\; font-family: Helvetica\, Arial\, sans-serif\; font-size: 14px\; white-space: pre-wrap\;" />\n<span style="color: rgb(29\, 33\, 41)\; white-space: pre-wrap\;">Lake Elmo Bank</span></span></span>
LOCATION:JX Event Venue 123 2nd Street N. Stillwater\, MN 55082
UID:e.257.29967
SEQUENCE:3
DTSTAMP:20260422T075041Z
URL:http://members.greaterstillwaterchamber.com/events/details/stillwater-rotary-club-s-100-year-anniversary-celebration-29967
END:VEVENT

END:VCALENDAR
