BEGIN:VCALENDAR
VERSION:2.0
PRODID:-//ChamberMaster//Event Calendar 2.0//EN
METHOD:PUBLISH
X-PUBLISHED-TTL:P3D
REFRESH-INTERVAL:P3D
CALSCALE:GREGORIAN
BEGIN:VEVENT
DTSTART:20260328T150000Z
DTEND:20260328T170000Z
X-MICROSOFT-CDO-ALLDAYEVENT:FALSE
SUMMARY:Spring Detox & Renewal: Releasing\, Cleansing & Reclaiming Energy Workshop
DESCRIPTION:Winter has a way of lingering   in our closets\, our calendars\, and our bodies. \n\nIf you're feeling a little heavy\, foggy\, or ready to open the windows (literally and figuratively)\, this workshop is your invitation to reset.\n\nJoin us for this two-hour\, in-person experience designed to help you gently clear winter stagnation from body\, home\, and spirit. Together\, we'll explore supportive   not punishing   approaches to detox\, with a focus on herbal liver and lymph nourishment\, seasonal movement to restore flow\, grounding rituals to calm the nervous system\, and simple\, doable ways to refresh your space and reduce overwhelm.\n\nYou'll enjoy \n\n\n	intentional tea tastings featuring cleansing and mineral-rich herbs\n	learning how to work with plants as allies during seasonal transitions \n	experience guided grounding and body movement tips\n	walk away with practical tools you can begin using right away\n\n\nThis is not about extremes\, deprivation\, or rigid protocols   it's about understanding how to support your body's natural detox pathways while creating more space\, clarity\, and energy in your daily life.\n\nSpring is a season of upward movement and renewal. Let this be the moment you shift from stuck to flowing\, from depleted to energized.\n\nSpace is limited to keep the experience intimate and interactive. Reserve your seat now and step into spring feeling lighter\, clearer\, and reclaimed.
X-ALT-DESC;FMTTYPE=text/html:<p><strong>Winter has a way of lingering &mdash\; in our closets\, our calendars\, and our bodies.</strong>&nbsp\;</p>\n\n<p>If you&rsquo\;re feeling a little heavy\, foggy\, or ready to open the windows (literally and figuratively)\, this workshop is your invitation to reset.</p>\n\n<p>Join us for this two-hour\, in-person experience designed to help you&nbsp\;<strong>gently clear winter stagnation from body</strong>\, home\, and spirit. Together\, we&rsquo\;ll explore supportive &mdash\;&nbsp\;<em>not punishing</em>&nbsp\;&mdash\; approaches to detox\, with a<strong>&nbsp\;focus on herbal liver and lymph nourishment\,</strong>&nbsp\;seasonal movement to restore flow\, grounding rituals to calm the nervous system\, and simple\, doable ways to&nbsp\;<strong>refresh your space and reduce overwhelm.</strong></p>\n\n<p><strong>You&rsquo\;ll enjoy</strong>&nbsp\;</p>\n\n<ul>\n	<li>intentional tea tastings featuring cleansing and mineral-rich herbs</li>\n	<li>learning how to work with plants as allies during seasonal transitions&nbsp\;</li>\n	<li>experience guided grounding and body movement tips</li>\n	<li>walk away with practical tools you can begin using right away</li>\n</ul>\n\n<p>This is not about extremes\, deprivation\, or rigid protocols &mdash\; it&rsquo\;s about&nbsp\;<strong>understanding how to support your body&rsquo\;s natural detox pathways</strong>&nbsp\;while creating more space\, clarity\, and energy in your daily life.</p>\n\n<p>Spring is a season of upward movement and renewal.&nbsp\;<strong>Let this be the moment you shift from stuck to flowing\, from depleted to energized.</strong></p>\n\n<p>Space is limited to keep the experience intimate and interactive.&nbsp\;<strong>Reserve your seat now and step into spring feeling lighter\, clearer\, and reclaimed.</strong></p>\n
LOCATION:Healing River Chiropractic 1903 Greeley St S. Suite 100 Stillwater\, MN 55082
UID:e.257.50122
SEQUENCE:3
DTSTAMP:20260421T135407Z
URL:http://members.greaterstillwaterchamber.com/events/details/spring-detox-renewal-releasing-cleansing-reclaiming-energy-workshop-50122
END:VEVENT

END:VCALENDAR
