BEGIN:VCALENDAR
VERSION:2.0
PRODID:-//ChamberMaster//Event Calendar 2.0//EN
METHOD:PUBLISH
X-PUBLISHED-TTL:P3D
REFRESH-INTERVAL:P3D
CALSCALE:GREGORIAN
BEGIN:VEVENT
DTSTART:20200223T180000Z
DTEND:20200223T180000Z
X-MICROSOFT-CDO-ALLDAYEVENT:FALSE
SUMMARY:SimpleGifts with Billy McLaughlin
DESCRIPTION:The Zephyr Theatre presents SimpleGifts with Billy McLaughlin\, to their show titled: The Young and The\n\nRest  an acoustic tribute to Neil Young and the rest of your favorite artists who\n\ndefined an era and whose popularity endures   Crosby\, Stills and Nash\, The Eagles\,\n\nJoni Mitchell\, America and more.
X-ALT-DESC;FMTTYPE=text/html:The Zephyr Theatre presents SimpleGifts with Billy McLaughlin\, to their show titled: The Young and The<br />\nRest&hellip\; an acoustic tribute to Neil Young and the rest of your favorite artists who<br />\ndefined an era and whose popularity endures &ndash\; Crosby\, Stills and Nash\, The Eagles\,<br />\nJoni Mitchell\, America and more.
LOCATION:The Zephyr Theatre\, 601 Main St.\, N.\, Stillwater\, MN 55082
UID:e.257.30233
SEQUENCE:3
DTSTAMP:20260422T010557Z
URL:http://members.greaterstillwaterchamber.com/events/details/simplegifts-with-billy-mclaughlin-02-23-2020-30233
END:VEVENT

END:VCALENDAR
