BEGIN:VCALENDAR
VERSION:2.0
PRODID:-//ChamberMaster//Event Calendar 2.0//EN
METHOD:PUBLISH
X-PUBLISHED-TTL:P3D
REFRESH-INTERVAL:P3D
CALSCALE:GREGORIAN
BEGIN:VEVENT
DTSTART:20260228T163000Z
DTEND:20260228T183000Z
X-MICROSOFT-CDO-ALLDAYEVENT:FALSE
SUMMARY:Shape Up Your Shoulders Workshop
DESCRIPTION:Take a journey deep into your shoulders!\n\nIn this transformative two-hour workshop you will focus on nurturing your shoulders an essential yet often overused part of your body. During or time together\, you'll explore shoulder anatomy\, range of motion\, and effective massage\, stretching\, and strengthening techniques.\n\nThis workshop is perfect for anyone looking to relieve tension\, improve posture\, and enhance overall well-being.\n\nCome ready to learn and rejuvenate your shoulders\, allowing you to move more easily through life!
X-ALT-DESC;FMTTYPE=text/html:<p>Take a journey deep into your shoulders!</p>\n\n<p>In this transformative two-hour workshop you will focus on nurturing your shoulders&mdash\;an essential yet often overused part of your body. During or time together\, you&rsquo\;ll explore shoulder anatomy\, range of motion\, and effective massage\, stretching\, and strengthening techniques.</p>\n\n<p>This workshop is perfect for anyone looking to relieve tension\, improve posture\, and enhance overall well-being.</p>\n\n<p>Come ready to learn and rejuvenate your shoulders\, allowing you to move more easily through life!</p>\n
LOCATION:Mudita Wellness\, 402 Main St. N. Stillwater\, MN 55082
UID:e.257.48106
SEQUENCE:3
DTSTAMP:20260421T151236Z
URL:http://members.greaterstillwaterchamber.com/events/details/shape-up-your-shoulders-workshop-02-28-2026-48106
END:VEVENT

END:VCALENDAR
