BEGIN:VCALENDAR
VERSION:2.0
PRODID:-//ChamberMaster//Event Calendar 2.0//EN
METHOD:PUBLISH
X-PUBLISHED-TTL:P3D
REFRESH-INTERVAL:P3D
CALSCALE:GREGORIAN
BEGIN:VEVENT
DTSTART:20200807T223000Z
DTEND:20200808T140000Z
X-MICROSOFT-CDO-ALLDAYEVENT:FALSE
SUMMARY:Relay For Life
DESCRIPTION:Relay For Life is a signature event held in for the American Cancer Society. This is a team event which raises fund for cancer research and funds programs such as Road to Recovery\, Hope Lodge and many others for cancer survivors through the American Cancer Society. This is an overnight Luminaries event that allows to to remember those who have lost their battle and Celebrate those fighting and winning their battle/
X-ALT-DESC;FMTTYPE=text/html:Relay For Life is a signature event held in for the American Cancer Society. This is a team event which raises fund for cancer research and funds programs such as Road to Recovery\, Hope Lodge and many others for cancer survivors through the American Cancer Society. This is an overnight Luminaries event that allows to to remember those who have lost their battle and Celebrate those fighting and winning their battle/
LOCATION:North Side of Lowell Park
UID:e.257.30222
SEQUENCE:3
DTSTAMP:20260421T164438Z
URL:http://members.greaterstillwaterchamber.com/events/details/relay-for-life-30222
END:VEVENT

END:VCALENDAR
