BEGIN:VCALENDAR
VERSION:2.0
PRODID:-//ChamberMaster//Event Calendar 2.0//EN
METHOD:PUBLISH
X-PUBLISHED-TTL:P3D
REFRESH-INTERVAL:P3D
CALSCALE:GREGORIAN
BEGIN:VEVENT
DTSTART:20250926T210000Z
DTEND:20250927T000000Z
X-MICROSOFT-CDO-ALLDAYEVENT:FALSE
SUMMARY:Pucks\, Pours & Pairings! Wine Release for State of Hockey Red!
DESCRIPTION:Celebrate the 2025 2026 Hockey Season with the Release of Our Newest State of Hockey Wine!\n\nJoin us for a special Tour + Taste Experience as we unveil the latest vintage of our fan-favorite State of Hockey Red just in time for the upcoming season!\n\nEnjoy a guided tour through our unique production spaces\, learn about our grape-to-glass process\, and savor a selection of wines paired with small bites along the way. You'll be among the first to taste the newly released vintage and hear the inspiring story and mission behind the State of Hockey wine.\n\nChoose your ticket time: 4:00 PM or 6:00 PM\n\nEach experience lasts approximately one hour and includes exclusive opportunities to purchase wines and take advantage of special offers after the tour.\n\nStick around after your tour! Your ticket includes a reserved spot in our wine bar or outdoor spaces\, where you can relax and enjoy live music by Anglo and Collins.
X-ALT-DESC;FMTTYPE=text/html:<strong><span style="color:black">Celebrate the 2025&ndash\;2026 Hockey Season with the Release of Our Newest State of Hockey Wine!</span></strong><br />\n<span style="color:black">Join us for a special <em>Tour + Taste Experience</em>&nbsp\;as we unveil the latest vintage of our fan-favorite <strong>State of Hockey Red</strong>&mdash\;just in time for the upcoming season!</span><br />\n<span style="color:black">Enjoy a guided tour through our unique production spaces\, learn about our grape-to-glass process\, and savor a selection of wines paired with small bites along the way. You&#39\;ll be among the first to taste the newly released vintage and hear the inspiring story and mission behind the State of Hockey wine.</span><br />\n<strong><span style="color:black">Choose your ticket time: 4:00 PM or 6:00 PM</span></strong><br />\n<span style="color:black">Each experience lasts approximately one hour and includes exclusive opportunities to purchase wines and take advantage of special offers after the tour.</span><br />\n<span style="color:black">Stick around after your tour! Your ticket includes a reserved spot in our wine bar or outdoor spaces\, where you can relax and enjoy <strong>live music by Anglo and Collins</strong>.</span>
LOCATION:7 Vines Vineyard 101 Hwy 96 East Dellwood MN 55110
UID:e.257.46375
SEQUENCE:3
DTSTAMP:20260421T232208Z
URL:http://members.greaterstillwaterchamber.com/events/details/pucks-pours-pairings-wine-release-for-state-of-hockey-red-46375
END:VEVENT

END:VCALENDAR
