BEGIN:VCALENDAR
VERSION:2.0
PRODID:-//ChamberMaster//Event Calendar 2.0//EN
METHOD:PUBLISH
X-PUBLISHED-TTL:P3D
REFRESH-INTERVAL:P3D
CALSCALE:GREGORIAN
BEGIN:VEVENT
DTSTART:20200125T170000Z
DTEND:20200125T180000Z
X-MICROSOFT-CDO-ALLDAYEVENT:FALSE
SUMMARY:Pasta: Noodles of Fun
DESCRIPTION:Saturday\, January 25 11am-12pm By watching the creation of dough and making their own noodles\, students will learn about the ingredients and processes that go into this grain-based food eaten worldwide. Whether it's made from corn or wheat or rice\, students discover the delicious ways people use grains to make their pasta and just how easy it is! Suitable for ages 5-12. Instructor: Midwest Food Connection Cost: $10/$5 for co-op owners
X-ALT-DESC;FMTTYPE=text/html:Saturday\, January 25 11am-12pm By watching the creation of dough and making their own noodles\, students will learn about the ingredients and processes that go into this grain-based food eaten worldwide. Whether it&rsquo\;s made from corn or wheat or rice\, students discover the delicious ways people use grains to make their pasta and just how easy it is! Suitable for ages 5-12. Instructor: Midwest Food Connection Cost: $10/$5 for co-op owners
LOCATION:River Market Co-op 221 N Main St Stillwater\, MN
UID:e.257.30386
SEQUENCE:3
DTSTAMP:20260422T025226Z
URL:http://members.greaterstillwaterchamber.com/events/details/pasta-noodles-of-fun-30386
END:VEVENT

END:VCALENDAR
