BEGIN:VCALENDAR
VERSION:2.0
PRODID:-//ChamberMaster//Event Calendar 2.0//EN
METHOD:PUBLISH
X-PUBLISHED-TTL:P3D
REFRESH-INTERVAL:P3D
CALSCALE:GREGORIAN
BEGIN:VEVENT
DTSTART:20180507T233000Z
DTEND:20180508T013000Z
X-MICROSOFT-CDO-ALLDAYEVENT:FALSE
SUMMARY:Paint with or for Mom - Custom wine glasses
DESCRIPTION:Grab your Mom or create a gift for Mother's Day at the historic Water Street Inn on the scenic St. Croix River\n\nPaint a set of two glasses and choose from a Floral or Monogram Design!  We fuse social\, creativity and celebration into one fun event! Awaken your creative side while sipping your favorite beverage and unwinding with friends. You'll create your own masterpiece while our instructors guide you with EASY step-by-step process.   \n\n\n\nIf you are not the "Creative" type   No Worries! Paint Sip Nosh events are for everyone\, zero experience required.
X-ALT-DESC;FMTTYPE=text/html:Grab your Mom or create a gift for Mother&#39\;s Day at the historic Water Street Inn on the scenic St. Croix River<br />\nPaint a set of two glasses and choose from a Floral or Monogram Design!&nbsp\; We fuse social\, creativity and celebration into one fun event! Awaken your creative side while sipping your favorite beverage&nbsp\;and unwinding with friends. You&#39\;ll create your own masterpiece while our instructors guide you with EASY step-by-step process.&nbsp\; &nbsp\;<br />\n<br />\nIf you are not the &ldquo\;Creative&rdquo\; type &ndash\; No Worries! Paint&middot\;Sip&middot\;Nosh events are for everyone\, zero experience required.&nbsp\;
LOCATION:Water Street Inn 101 Water St S 55082 Stillwater MN 651-998-9844
UID:e.257.26709
SEQUENCE:3
DTSTAMP:20260419T171328Z
URL:http://members.greaterstillwaterchamber.com/events/details/paint-with-friends-custom-wood-signs-05-07-2018-26709
END:VEVENT

END:VCALENDAR
