BEGIN:VCALENDAR
VERSION:2.0
PRODID:-//ChamberMaster//Event Calendar 2.0//EN
METHOD:PUBLISH
X-PUBLISHED-TTL:P3D
REFRESH-INTERVAL:P3D
CALSCALE:GREGORIAN
BEGIN:VEVENT
DTSTART:20190926T230000Z
DTEND:20190927T020000Z
X-MICROSOFT-CDO-ALLDAYEVENT:FALSE
SUMMARY:Options for Women St. Croix Valley Imagine Fundraising Banquet
DESCRIPTION:This annual fundraising event helps us promote life and foster human dignity in the St. Croix Valley.\n\nOur Keynote Speaker for this event is:  Former Abortionist - Dr. Anthony Levatino
X-ALT-DESC;FMTTYPE=text/html:This annual fundraising event helps us promote life and foster human dignity in the St. Croix Valley.<br abp="2973" />\nOur Keynote Speaker for this event is:&nbsp\; Former Abortionist - Dr. Anthony Levatino
LOCATION:JX Event Center 123 2nd Street N. Stillwater\, MN 55082
UID:e.257.29952
SEQUENCE:3
DTSTAMP:20260422T091105Z
URL:http://members.greaterstillwaterchamber.com/events/details/options-for-women-st-croix-valley-imagine-fundraising-banquet-29952
END:VEVENT

END:VCALENDAR
