BEGIN:VCALENDAR
VERSION:2.0
PRODID:-//ChamberMaster//Event Calendar 2.0//EN
METHOD:PUBLISH
X-PUBLISHED-TTL:P3D
REFRESH-INTERVAL:P3D
CALSCALE:GREGORIAN
BEGIN:VEVENT
DTSTART:20200101T031500Z
DTEND:20200101T181500Z
X-MICROSOFT-CDO-ALLDAYEVENT:FALSE
SUMMARY:New Year's Eve- Live Irish Music: Red Rock Swing Band in the Ballroom
DESCRIPTION:Music by the ever-popular Red Rock Swing Band (The Red Rock Swing band is a 17-piece big-band. Performing since 2003\, they specialize in "danceable" tunes from the golden era of Swing. Think Glenn Miller\, Count Basie\, Frank Sinatra\, Duke Ellington\, Cab Calloway and you're in their era.)\n\nPackages and prices visit our website or give us a call 651-439-6000  \n\nhttps://waterstreetinn.us/new-years-eve-5/
X-ALT-DESC;FMTTYPE=text/html:<p style="text-align:center">Music by the ever-popular Red Rock Swing Band (The Red Rock Swing band is a 17-piece big-band. Performing since 2003\, they specialize in &quot\;danceable&quot\; tunes from the golden era of Swing. Think Glenn Miller\, Count Basie\, Frank Sinatra\, Duke Ellington\, Cab Calloway and you&#39\;re in their era.)<br />\nPackages and prices visit our website or give us a call 651-439-6000&nbsp\;&nbsp\;<br />\nhttps://waterstreetinn.us/new-years-eve-5/<br />\n&nbsp\;</p>\n
LOCATION:101 Water Street South Stillwater\, MN 55082
UID:e.257.30231
SEQUENCE:3
DTSTAMP:20260422T025330Z
URL:http://members.greaterstillwaterchamber.com/events/details/new-year-s-eve-live-irish-music-red-rock-swing-band-in-the-ballroom-30231
END:VEVENT

END:VCALENDAR
