BEGIN:VCALENDAR
VERSION:2.0
PRODID:-//ChamberMaster//Event Calendar 2.0//EN
METHOD:PUBLISH
X-PUBLISHED-TTL:P3D
REFRESH-INTERVAL:P3D
CALSCALE:GREGORIAN
BEGIN:VEVENT
DTSTART:20250707T230000Z
DTEND:20250708T020000Z
X-MICROSOFT-CDO-ALLDAYEVENT:FALSE
SUMMARY:Monday Night Music on the Freight House Patio
DESCRIPTION:Join us at The Freight House for Motivational Mondays with Happy Hour from 4*-6pm\, Live Music from 6-9 and 1/2 priced bottles of wine from 6-Close. Let's get your week started off right.
X-ALT-DESC;FMTTYPE=text/html:Join us at The Freight House for Motivational Mondays with Happy Hour from 4*-6pm\, Live Music from 6-9 and 1/2 priced bottles of wine from 6-Close. Let&#39\;s get your week started off right.&nbsp\;
LOCATION:The Freight House
UID:e.257.42509
SEQUENCE:3
DTSTAMP:20260422T025255Z
URL:http://members.greaterstillwaterchamber.com/events/details/monday-night-music-on-the-freight-house-patio-07-07-2025-42509
END:VEVENT

END:VCALENDAR
