BEGIN:VCALENDAR
VERSION:2.0
PRODID:-//ChamberMaster//Event Calendar 2.0//EN
METHOD:PUBLISH
X-PUBLISHED-TTL:P3D
REFRESH-INTERVAL:P3D
CALSCALE:GREGORIAN
BEGIN:VEVENT
DTSTART:20251005T160000Z
DTEND:20251005T230000Z
X-MICROSOFT-CDO-ALLDAYEVENT:FALSE
SUMMARY:MN State Fair REMIX @ 7 Vines Vineyard- Oct. 5
DESCRIPTION:A taste of some favorites from the 2025 MN State Fair! \nA day of fun\, flowers\, and flavor!\n\nSunday\, October 5th\n\n \n\nToss some bocce balls\n\nEnjoy live music - Michael August\n\nGrab tasty bites from the Greater Tater food truck- a fan favorite NEW Vendor at the 2025 Fair!\n\nSip on 7 Vines wine   yep\, the same stars of the Fair!\n\nSnag a Backyard Flower & Farm bouquet \n\nAnd yes   the full 7 Vines wine and food menu is ready for you\, too! \n\n\n\nPlan a full service reservation \, or join us for open seating to enjoy the day!
X-ALT-DESC;FMTTYPE=text/html:<h2 style="font-style:italic\;"><span style="font-family:arial\,helvetica\,sans-serif"><strong><big>A taste of some favorites from the 2025 MN State Fair!&nbsp\;</big></strong></span></h2>\n<span style="font-family:arial\,helvetica\,sans-serif"><big><span style="color:black">A day of fun\, flowers\, and flavor!</span><br />\n<span style="color:black">Sunday\, October 5th</span></big><br />\n&nbsp\;<br />\n<span style="color:black">Toss some bocce balls</span><br />\n<span style="color:black">Enjoy live music - Michael August</span><br />\n<span style="color:black">Grab tasty bites from the Greater Tater food truck- a fan favorite NEW Vendor at the 2025 Fair!<br />\nSip on 7 Vines wine&nbsp\;&mdash\; yep\, the same stars of the Fair!<br />\nSnag a Backyard Flower &amp\; Farm bouquet&nbsp\;<br />\nAnd yes &mdash\; <em>the full 7 Vines wine and food menu&nbsp\;is ready for you\, too!&nbsp\;</em></span></span><br />\n<br />\nPlan a full service reservation \, or join us for open seating to enjoy the day!&nbsp\;
LOCATION:7 Vines Vineyard 101 Hwy 96 East Dellwood\, MN 55110
UID:e.257.46378
SEQUENCE:3
DTSTAMP:20260421T220159Z
URL:http://members.greaterstillwaterchamber.com/events/details/mn-state-fair-remix-7-vines-vineyard-oct-5-46378
END:VEVENT

END:VCALENDAR
