BEGIN:VCALENDAR
VERSION:2.0
PRODID:-//ChamberMaster//Event Calendar 2.0//EN
METHOD:PUBLISH
X-PUBLISHED-TTL:P3D
REFRESH-INTERVAL:P3D
CALSCALE:GREGORIAN
BEGIN:VEVENT
DTSTART:20201031T230000Z
DTEND:20201101T030000Z
X-MICROSOFT-CDO-ALLDAYEVENT:FALSE
SUMMARY:"Mask-erade" Halloween Party
DESCRIPTION:Swing Dancing\, Fire Performers\, and Pumpkins\, oh my!\n\nAdd a costume contest and fancy drinks and you are ready to go!\n\n\n\nJoin us for this safe and fun outdoor/indoor physically distanced celebration!
X-ALT-DESC;FMTTYPE=text/html:Swing Dancing\, Fire Performers\, and Pumpkins\, oh my!<br />\nAdd a costume contest and fancy drinks and you are ready to go!<br />\n<br />\nJoin us for this safe and fun outdoor/indoor physically distanced celebration!
LOCATION:Stillwater Zephyr Theatre
UID:e.257.31503
SEQUENCE:3
DTSTAMP:20260421T135125Z
URL:http://members.greaterstillwaterchamber.com/events/details/mask-erade-halloween-party-31503
END:VEVENT

END:VCALENDAR
