BEGIN:VCALENDAR
VERSION:2.0
PRODID:-//ChamberMaster//Event Calendar 2.0//EN
METHOD:PUBLISH
X-PUBLISHED-TTL:P3D
REFRESH-INTERVAL:P3D
CALSCALE:GREGORIAN
BEGIN:VEVENT
DTSTART:20201211T003000Z
DTEND:20201211T013000Z
X-MICROSOFT-CDO-ALLDAYEVENT:FALSE
SUMMARY:Making Craft Cocktails at Home with Forge & Foundry Distillery
DESCRIPTION:Learn how to make three literary-inspired cocktails with Stillwater Public Library's virtual program featuring Christie Wanderer\, co-owner of Forge and Foundry\, a new craft distillery and cocktail bar in Stillwater. Christie will walk you through craft cocktail techniques\, discuss supplies to help build your craft cocktail home bar\, and help you learn how to wow your friends. We will provide recipes and a supply list for three craft cocktails and walk you through building each of these cocktails together. Let's connect virtually to pay homage to some of our best literary greats through their loved cocktails. \nProgram will be held via Zoom\, and registration is required. Register online at https://washcolib.libcal.com/event/7204364 or by phone at 651-275-4338. An email will be sent after registration with the Zoom meeting details.
X-ALT-DESC;FMTTYPE=text/html:Learn how to make three literary-inspired cocktails with Stillwater Public Library&#39\;s virtual program featuring Christie Wanderer\, co-owner of Forge and Foundry\, a new craft distillery and cocktail bar in Stillwater. Christie will walk you through craft cocktail techniques\, discuss supplies to help build your craft cocktail home bar\, and help you learn how to wow your friends. We will provide recipes and a supply list for three craft cocktails and walk you through building each of these cocktails together. Let&rsquo\;s connect virtually to pay homage to some of our best literary greats through their loved cocktails.&nbsp\;\n<p>Program will be held via Zoom\, and registration is required. Register online at <a href="https://washcolib.libcal.com/event/7204364">https://washcolib.libcal.com/event/7204364</a> or by phone at 651-275-4338. An email will be sent after registration with the Zoom meeting details.&nbsp\;</p>\n
LOCATION:Virtual program held by Stillwater Public Library.
UID:e.257.31511
SEQUENCE:3
DTSTAMP:20260421T112407Z
URL:http://members.greaterstillwaterchamber.com/events/details/making-craft-cocktails-at-home-with-forge-foundry-distillery-31511
END:VEVENT

END:VCALENDAR
