BEGIN:VCALENDAR
VERSION:2.0
PRODID:-//ChamberMaster//Event Calendar 2.0//EN
METHOD:PUBLISH
X-PUBLISHED-TTL:P3D
REFRESH-INTERVAL:P3D
CALSCALE:GREGORIAN
BEGIN:VEVENT
DTSTART:20200123T000000Z
DTEND:20200123T020000Z
X-MICROSOFT-CDO-ALLDAYEVENT:FALSE
SUMMARY:Make Your Own Elderberry Syrup
DESCRIPTION:Wednesday\, January 22 6-8pm Join herbalist Heather Mashuga in learning how to make elderberry syrup. Help keep your loved ones and yourself healthy. Elderberry is wonderful for colds\, coughs\, and the flu. Elderberries are a rich source of vitamins A and C\, which are crucial in helping your body maintain optimal health. The bioflavonoids in elderberry syrup boost the body's immune system by increasing antioxidant levels and decreasing viruses that damage cell walls. You will learn about other ingredients to add to the syrup to help boost it\, and how to make the syrup. You will leave with a bottle of elderberry syrup and a handout explaining how to make it again and what its medicinal properties are. Instructor: Heather Mashuga\, Herbalist Cost: $15/$10 for co-op owners
X-ALT-DESC;FMTTYPE=text/html:Wednesday\, January 22 6-8pm Join herbalist Heather Mashuga in learning how to make elderberry syrup. Help keep your loved ones and yourself healthy. Elderberry is wonderful for colds\, coughs\, and the flu. Elderberries are a rich source of vitamins A and C\, which are crucial in helping your body maintain optimal health. The bioflavonoids in elderberry syrup boost the body&rsquo\;s immune system by increasing antioxidant levels and decreasing viruses that damage cell walls. You will learn about other ingredients to add to the syrup to help boost it\, and how to make the syrup. You will leave with a bottle of elderberry syrup and a handout explaining how to make it again and what its medicinal properties are. Instructor: Heather Mashuga\, Herbalist Cost: $15/$10 for co-op owners
LOCATION:River Market Co-op 221 N Main St. Stillwater\, MN
UID:e.257.30384
SEQUENCE:3
DTSTAMP:20260422T025005Z
URL:http://members.greaterstillwaterchamber.com/events/details/make-your-own-elderberry-syrup-30384
END:VEVENT

END:VCALENDAR
