BEGIN:VCALENDAR
VERSION:2.0
PRODID:-//ChamberMaster//Event Calendar 2.0//EN
METHOD:PUBLISH
X-PUBLISHED-TTL:P3D
REFRESH-INTERVAL:P3D
CALSCALE:GREGORIAN
BEGIN:VEVENT
DTSTART:20201004T003000Z
DTEND:20201004T043000Z
X-MICROSOFT-CDO-ALLDAYEVENT:FALSE
SUMMARY:Live Irish Music: Lojo Russo at Charlie's Irish Pub
DESCRIPTION:Join us in Charlie's Irish Pub every Friday and Saturday for live Irish music\, 7:30 pm-11:30 pm\n\n\n\nWhether playing festivals or front steps\, coffee houses or concert halls Lojo Russo connects with her audience in a way few performers can. Her enormous stage energy\, powerful voice and percussive playing style belie her small frame. This little woman puts on one heckuva big show.
X-ALT-DESC;FMTTYPE=text/html:<br />\nJoin us in Charlie&rsquo\;s Irish Pub every Friday and Saturday for live Irish music\, 7:30&nbsp\;pm-11:30&nbsp\;pm<br />\n<br />\nWhether playing festivals or front steps\, coffee houses or concert halls Lojo Russo connects with her audience in a way few performers can. Her enormous stage energy\, powerful voice and percussive playing style belie her small frame. This little woman puts on one heckuva big show.<br />\n<br />\n&nbsp\;
LOCATION:101 Water Street South Stillwater\, MN 55082
UID:e.257.31467
SEQUENCE:3
DTSTAMP:20260421T135458Z
URL:http://members.greaterstillwaterchamber.com/events/details/live-irish-music-lojo-russo-at-charlie-s-irish-pub-10-03-2020-31467
END:VEVENT

END:VCALENDAR
