BEGIN:VCALENDAR
VERSION:2.0
PRODID:-//ChamberMaster//Event Calendar 2.0//EN
METHOD:PUBLISH
X-PUBLISHED-TTL:P3D
REFRESH-INTERVAL:P3D
CALSCALE:GREGORIAN
BEGIN:VEVENT
DTSTART:20180207T003000Z
DTEND:20180207T020000Z
X-MICROSOFT-CDO-ALLDAYEVENT:FALSE
SUMMARY:John Noltner\, A Peace of My Mind: Multi-Media Presentation
DESCRIPTION:Explore the meaning of peace one story at a time!\n \n\nJoin us at the Stillwater Public Library on Tuesday\, February 6\, 2018 at 6:30 pm for a special 40-minute multi-media presentation followed by Q&A by artist John Noltner. \n\n \n\nJohn will discuss his exhibit\, A Peace of  My Mind\, displayed throughout the Stillwater Public Library from January 8 - February 6\, 2018. A Peace of My Mind explores the simple (or not so simple) question -What does peace mean to you? This thought-provoking exhibit features a stunning collection of 52 portraits and personal stories of diverse Minnesotans. \n\n \n\n\nFor more information about the exhibit\, related events\, and an exhibit guide\, go to www.stillwaterlibrary.org. Visit the artist's website at www.apomm.net. The event is free and open to the public. This exhibit is brought to the library and community by a grant from the Stillwater Public Library Foundation.
X-ALT-DESC;FMTTYPE=text/html:<strong>Explore the meaning of peace one story at a time!</strong>\n<div>&nbsp\;</div>\n\n<div>Join us at the Stillwater Public Library on Tuesday\, February 6\, 2018 at 6:30 pm for a special 40-minute multi-media presentation followed by Q&amp\;A by artist John Noltner.&nbsp\;</div>\n\n<div>&nbsp\;</div>\n\n<div>John will discuss his exhibit\,&nbsp\;<strong>A Peace of&nbsp\; My Mind</strong>\, displayed throughout the Stillwater Public Library from January 8 - February 6\, 2018.&nbsp\;<strong>A Peace of My Mind&nbsp\;</strong>explores the simple (or not so simple) question -What does peace mean to you? This thought-provoking exhibit features a stunning collection of 52 portraits and personal stories of diverse Minnesotans.&nbsp\;</div>\n\n<div>&nbsp\;</div>\n\n<div>\n<div><span style="font-family:calibri\; font-size:15px">For more information about the exhibit\, related events\, and an exhibit guide\, go to www.stillwaterlibrary.org. Visit the artist&#39\;s website at www.apomm.net. The event is free and open to the public. This exhibit is brought to the library and community by a grant from the Stillwater Public Library Foundation.</span></div>\n</div>\n
LOCATION:Stillwater Public Library 224 Third Street N Stillwater MN 55082
UID:e.257.25358
SEQUENCE:3
DTSTAMP:20260422T092220Z
URL:http://members.greaterstillwaterchamber.com/events/details/john-noltner-a-peace-of-my-mind-multi-media-presentation-25358
END:VEVENT

END:VCALENDAR
