BEGIN:VCALENDAR
VERSION:2.0
PRODID:-//ChamberMaster//Event Calendar 2.0//EN
METHOD:PUBLISH
X-PUBLISHED-TTL:P3D
REFRESH-INTERVAL:P3D
CALSCALE:GREGORIAN
BEGIN:VEVENT
DTSTART:20191220T010000Z
DTEND:20191220T030000Z
X-MICROSOFT-CDO-ALLDAYEVENT:FALSE
SUMMARY:"It's A Wonderful Life"
DESCRIPTION:The Zephyr Theatre in collaboration with Crosswinds Community Church presents an exquisite stage adaptation of Frank Capra's classic film about dreams\, sacrifice and redemption in small town America.
X-ALT-DESC;FMTTYPE=text/html:<h3>The Zephyr Theatre in collaboration with Crosswinds Community Church presents an exquisite stage adaptation of Frank Capra&rsquo\;s classic film about dreams\, sacrifice and redemption in small town America.</h3>\n
LOCATION:The Zephyr Theatre\, 601 Main St.\, N.\, Stillwater
UID:e.257.30208
SEQUENCE:3
DTSTAMP:20260422T043950Z
URL:http://members.greaterstillwaterchamber.com/events/details/it-s-a-wonderful-life-12-19-2019-30208
END:VEVENT

END:VCALENDAR
