BEGIN:VCALENDAR
VERSION:2.0
PRODID:-//ChamberMaster//Event Calendar 2.0//EN
METHOD:PUBLISH
X-PUBLISHED-TTL:P3D
REFRESH-INTERVAL:P3D
CALSCALE:GREGORIAN
BEGIN:VEVENT
DTSTART:20191113T210000Z
DTEND:20191113T220000Z
X-MICROSOFT-CDO-ALLDAYEVENT:FALSE
SUMMARY:Inspirational Talk by Dan Seftick
DESCRIPTION:The death of a child is a parent's worst nightmare. The normal course of life has been altered. Parents aren't supposed to bury their children. The future now bears little resemblance to the visions of past dreams. To call the road ahead devastating is an understatement.\n\n \n\nOn the night of April 16\, 2011\, Dan Seftick's thirty-one year old son Greg died with his friend in an avalanche in Grand Teton National Park. Despite taking all proper precautions\, following requirements for a backcountry activity\, and the best efforts of highly skilled search and rescue personnel\, the search for these two experienced mountaineers took seven days. \n\n \n\nIn his new book Real Mountains\, Dan shares his faith story and the story of this tragic accident and memories of his son Greg.  He will also share his work in preserving his son's legacy through partnerships with 4 non-profits.  He will have books for sale and info on donating.
X-ALT-DESC;FMTTYPE=text/html:<span style="color:black"><span style="font-family:arial"><span style="font-size:15.0pt">The death of a child is a parent&rsquo\;s worst nightmare. The normal course of life has been altered. Parents aren&rsquo\;t supposed to bury their children. The future now bears little resemblance to the visions of past dreams. To call the road ahead devastating is an understatement.</span></span></span><br />\n&nbsp\;<br />\n<span style="color:black"><span style="font-family:arial"><span style="font-size:15.0pt">On the night of April 16\, 2011\, Dan Seftick&rsquo\;s thirty-one year old son Greg died with his friend in an avalanche in Grand Teton National Park. Despite taking all proper precautions\, following requirements for a backcountry activity\, and the best efforts of highly skilled search and rescue personnel\, the search for these two experienced mountaineers took seven days. </span></span></span><br />\n&nbsp\;<br />\n<span style="color:black"><span style="font-family:arial"><span style="font-size:15.0pt">In his new book Real Mountains\, Dan shares his faith story and the story of this tragic accident and memories of his son Greg.&nbsp\; He will also share his work in preserving his son&rsquo\;s legacy through partnerships with 4 non-profits.&nbsp\; He will have books for sale and info on donating.&nbsp\;&nbsp\;</span></span></span><br />\n&nbsp\;
LOCATION:Oak Meadows Senior Living 8131 Fourth St N Oakdale\, MN 55128
UID:e.257.29994
SEQUENCE:3
DTSTAMP:20260422T072823Z
URL:http://members.greaterstillwaterchamber.com/events/details/inspirational-talk-by-dan-seftick-29994
END:VEVENT

END:VCALENDAR
