BEGIN:VCALENDAR
VERSION:2.0
PRODID:-//ChamberMaster//Event Calendar 2.0//EN
METHOD:PUBLISH
X-PUBLISHED-TTL:P3D
REFRESH-INTERVAL:P3D
CALSCALE:GREGORIAN
BEGIN:VEVENT
DTSTART:20170601T223000Z
DTEND:20170602T003000Z
X-MICROSOFT-CDO-ALLDAYEVENT:FALSE
SUMMARY:IGNITE: Young Professionals +
DESCRIPTION:Have fun and meet other young professionals through IGNITE - the Chamber's Young Professionals Network.\n\nLow key but high energy\, IGNITE meets monthly for happy hour and networking. All are welcome to attend - those in the "young" age bracket and certainly\, those young at heart!\n\n\n\nOur June 1st gathering will be hosted by DIRO Outdoors. \n\nCo-hosted by Minuteman Press\, Oakdale.\n\nDIRO Outdoors will be bringing Stand Up Paddleboards and Kayaks to get on the water and try out! (Those that want to go on the water should bring shoes that can get wet - Not flip flops - and ideally quick drying clothes or swim suit as they may get wet) :)\n\nMinuteman Press will supply refreshments and treats!\n\n\n\n\n\nJoin us the first Thursday of every month at various locations throughout the Stillwater Area.\n\nCan't make it this time?  Stay up to date on our monthly gatherings by Liking our IGNITE Facebook group. Invite your friends!
X-ALT-DESC;FMTTYPE=text/html:<p _mce_style="margin-top: 0px\; margin-bottom: 0px\;" style="margin-top: 0px\; margin-bottom: 0px"><span style="font-size:14px\;">Have fun and meet other young professionals through IGNITE - the Chamber&#39\;s Young Professionals Network.<br />\nLow key but high energy\, IGNITE&nbsp\;meets monthly for happy hour and networking. All are welcome to attend - those in the &quot\;young&quot\; age bracket and certainly\, those young at heart!<br />\n<br />\n<strong>Our June 1st gathering will be hosted by DIRO Outdoors</strong><em>. </em></span><br />\n<strong><span style="font-size: 14px\;"><em>Co-hosted by Minuteman Press\, Oakdale.</em></span></strong><br />\n<span style="font-size:14px\;">DIRO Outdoors will be bringing Stand Up Paddleboards and Kayaks to get on the water and try out! <em>(Those that want to go on the water should bring shoes that can get wet - Not flip flops - and ideally quick drying clothes or swim suit as they may get wet)</em> :)</span><br />\n<span style="font-size:14px\;">Minuteman Press will supply refreshments and treats!</span><br />\n<br />\n<br />\n<em style="margin: 0px\; padding: 0px\; border: none\; font-size: 15px\; bottom: auto\; box-sizing: content-box\; clear: none\; color: rgb(68\, 68\, 68)\; content: normal\; direction: inherit\; display: inline\; empty-cells: show\; font-variant: inherit\; font-weight: inherit\; font-stretch: inherit\; font-family: Arial\, Helvetica\, sans-serif\; left: auto\; letter-spacing: inherit\; line-height: inherit\; max-height: none\; max-width: none\; min-height: initial\; min-width: initial\; opacity: 1\; outline-offset: 0px\; overflow: visible\; position: static\; resize: none\; right: auto\; table-layout: auto\; text-align: inherit\; text-indent: inherit\; text-overflow: clip\; text-transform: inherit\; top: auto\; vertical-align: baseline\; visibility: inherit\; white-space: inherit\; word-break: inherit\; word-spacing: inherit\; word-wrap: inherit\; z-index: auto\; background: none\; border-collapse: separate\; border-radius: 0px\; height: auto\; width: auto\; box-shadow: none\;"><span style="margin: 0px\; padding: 0px\; border: none\; font-size: 14px\; bottom: auto\; box-sizing: content-box\; clear: none\; color: inherit\; content: normal\; direction: inherit\; empty-cells: show\; font-style: inherit\; font-variant: inherit\; font-weight: inherit\; font-stretch: inherit\; font-family: inherit\; left: auto\; letter-spacing: inherit\; line-height: inherit\; max-height: none\; max-width: none\; min-height: initial\; min-width: initial\; opacity: 1\; outline-offset: 0px\; overflow: visible\; position: static\; resize: none\; right: auto\; table-layout: auto\; text-align: inherit\; text-indent: inherit\; text-overflow: clip\; text-transform: inherit\; top: auto\; vertical-align: baseline\; visibility: inherit\; white-space: inherit\; word-break: inherit\; word-spacing: inherit\; word-wrap: inherit\; z-index: auto\; background: none\; border-collapse: separate\; border-radius: 0px\; height: auto\; width: auto\; box-shadow: none\;"><span style="margin: 0px\; padding: 0px\; border: none\; font-size: inherit\; bottom: auto\; box-sizing: content-box\; clear: none\; color: inherit\; content: normal\; direction: inherit\; empty-cells: show\; font-style: inherit\; font-variant: inherit\; font-weight: inherit\; font-stretch: inherit\; font-family: tahoma\; left: auto\; letter-spacing: inherit\; line-height: inherit\; max-height: none\; max-width: none\; min-height: initial\; min-width: initial\; opacity: 1\; outline-offset: 0px\; overflow: visible\; position: static\; resize: none\; right: auto\; table-layout: auto\; text-align: inherit\; text-indent: inherit\; text-overflow: clip\; text-transform: inherit\; top: auto\; vertical-align: baseline\; visibility: inherit\; white-space: inherit\; word-break: inherit\; word-spacing: inherit\; word-wrap: inherit\; z-index: auto\; background: none\; border-collapse: separate\; border-radius: 0px\; height: auto\; width: auto\; box-shadow: none\;"><span style="margin: 0px\; padding: 0px\; border: none\; font-size: inherit\; bottom: auto\; box-sizing: content-box\; clear: none\; color: rgb(0\, 0\, 0)\; content: normal\; direction: inherit\; empty-cells: show\; font-style: inherit\; font-variant: inherit\; font-weight: inherit\; font-stretch: inherit\; font-family: inherit\; left: auto\; letter-spacing: inherit\; line-height: inherit\; max-height: none\; max-width: none\; min-height: initial\; min-width: initial\; opacity: 1\; outline-offset: 0px\; overflow: visible\; position: static\; resize: none\; right: auto\; table-layout: auto\; text-align: inherit\; text-indent: inherit\; text-overflow: clip\; text-transform: inherit\; top: auto\; vertical-align: baseline\; visibility: inherit\; white-space: inherit\; word-break: inherit\; word-spacing: inherit\; word-wrap: inherit\; z-index: auto\; background: none\; border-collapse: separate\; border-radius: 0px\; height: auto\; width: auto\; box-shadow: none\;">Join us the first Thursday of every month at various locations throughout the Stillwater Area.<br style="bottom: auto\; box-sizing: content-box\; clear: none\; color: inherit\; content: normal\; direction: inherit\; display: inline\; empty-cells: show\; float: none\; font-style: inherit\; font-variant: inherit\; font-weight: inherit\; font-stretch: inherit\; font-size: inherit\; font-family: inherit\; left: auto\; letter-spacing: inherit\; line-height: inherit\; margin: 0px\; max-height: none\; max-width: none\; min-height: initial\; min-width: initial\; opacity: 1\; outline-offset: 0px\; overflow: visible\; padding: 0px\; position: static\; resize: none\; right: auto\; table-layout: auto\; text-align: inherit\; text-indent: inherit\; text-overflow: clip\; text-transform: inherit\; top: auto\; vertical-align: baseline\; visibility: inherit\; white-space: inherit\; word-break: inherit\; word-spacing: inherit\; word-wrap: inherit\; z-index: auto\; background: none\; border: none\; border-collapse: separate\; border-radius: 0px\; height: auto\; width: auto\;" />\nCan&#39\;t make it this time? &nbsp\;Stay up to date on our monthly gatherings by Liking our IGNITE&nbsp\;</span><a href="https://www.facebook.com/IgniteYoungProfessionals/" style="margin: 0px\; padding: 0px\; border: none\; font-size: inherit\; color: rgb(34\, 72\, 132)\; text-decoration-line: none\; bottom: auto\; box-sizing: content-box\; clear: none\; content: normal\; direction: inherit\; display: inline\; empty-cells: show\; float: none\; font-style: inherit\; font-variant: inherit\; font-weight: inherit\; font-stretch: inherit\; font-family: inherit\; left: auto\; letter-spacing: inherit\; line-height: inherit\; max-height: none\; max-width: none\; min-height: initial\; min-width: initial\; opacity: 1\; outline-offset: 0px\; overflow: visible\; position: static\; resize: none\; right: auto\; table-layout: auto\; text-align: inherit\; text-indent: inherit\; text-overflow: clip\; text-transform: inherit\; top: auto\; vertical-align: baseline\; visibility: inherit\; white-space: inherit\; word-break: inherit\; word-spacing: inherit\; word-wrap: break-word\; z-index: auto\; background: none\; border-collapse: separate\; border-radius: 0px\; height: auto\; width: auto\; box-shadow: none\;"><span style="margin: 0px\; padding: 0px\; border: none\; font-size: inherit\; bottom: auto\; box-sizing: content-box\; clear: none\; color: rgb(0\, 0\, 0)\; content: normal\; direction: inherit\; empty-cells: show\; font-style: inherit\; font-variant: inherit\; font-weight: inherit\; font-stretch: inherit\; font-family: inherit\; left: auto\; letter-spacing: inherit\; line-height: inherit\; max-height: none\; max-width: none\; min-height: initial\; min-width: initial\; opacity: 1\; outline-offset: 0px\; overflow: visible\; position: static\; resize: none\; right: auto\; table-layout: auto\; text-align: inherit\; text-indent: inherit\; text-overflow: clip\; text-transform: inherit\; top: auto\; vertical-align: baseline\; visibility: inherit\; white-space: inherit\; word-break: inherit\; word-spacing: inherit\; word-wrap: inherit\; z-index: auto\; background: none\; border-collapse: separate\; border-radius: 0px\; height: auto\; width: auto\; box-shadow: none\;">Facebook group</span></a><span style="margin: 0px\; padding: 0px\; border: none\; font-size: inherit\; bottom: auto\; box-sizing: content-box\; clear: none\; color: rgb(0\, 0\, 0)\; content: normal\; direction: inherit\; empty-cells: show\; font-style: inherit\; font-variant: inherit\; font-weight: inherit\; font-stretch: inherit\; font-family: inherit\; left: auto\; letter-spacing: inherit\; line-height: inherit\; max-height: none\; max-width: none\; min-height: initial\; min-width: initial\; opacity: 1\; outline-offset: 0px\; overflow: visible\; position: static\; resize: none\; right: auto\; table-layout: auto\; text-align: inherit\; text-indent: inherit\; text-overflow: clip\; text-transform: inherit\; top: auto\; vertical-align: baseline\; visibility: inherit\; white-space: inherit\; word-break: inherit\; word-spacing: inherit\; word-wrap: inherit\; z-index: auto\; background: none\; border-collapse: separate\; border-radius: 0px\; height: auto\; width: auto\; box-shadow: none\;">. Invite your friends!</span></span></span></em></p>\n\n<p _mce_style="margin-top: 0px\; margin-bottom: 0px\;" style="margin-top: 0px\; margin-bottom: 0px"><span>&nbsp\;</span></p>\n
LOCATION:Square Lake County Park 15450 Square Lake Trail N. Parking at the Park will be $5-7. Co-Hosted by Minuteman Press\, Oakdale!
UID:e.257.13817
SEQUENCE:3
DTSTAMP:20260425T110352Z
URL:http://members.greaterstillwaterchamber.com/events/details/ignite-young-professionals-networking-happy-hour-06-01-2017-13817
END:VEVENT

END:VCALENDAR
