BEGIN:VCALENDAR
VERSION:2.0
PRODID:-//ChamberMaster//Event Calendar 2.0//EN
METHOD:PUBLISH
X-PUBLISHED-TTL:P3D
REFRESH-INTERVAL:P3D
CALSCALE:GREGORIAN
BEGIN:VEVENT
DTSTART:20201204T140000Z
DTEND:20201204T171500Z
X-MICROSOFT-CDO-ALLDAYEVENT:FALSE
SUMMARY:Holiday Food Drive
DESCRIPTION:Monarch Healthcare Management and Moments Hospice are launching a joint initiative to restock Minnesota's food pantries for the holiday season. Moments Hospice will be traveling to Stillwater to host a food drive at Monarch Healthcare Management facilities for both staff and community members to contribute to local food banks.
X-ALT-DESC;FMTTYPE=text/html:Monarch Healthcare Management and Moments Hospice are launching a joint initiative to restock Minnesota&rsquo\;s food pantries for the holiday season. Moments Hospice will be traveling to Stillwater to host a food drive at Monarch Healthcare Management facilities for both staff and community members to contribute to local food banks.
LOCATION:The Estates at Greeley and The Estates at Linden
UID:e.257.31512
SEQUENCE:3
DTSTAMP:20260421T113454Z
URL:http://members.greaterstillwaterchamber.com/events/details/holiday-food-drive-31512
END:VEVENT

END:VCALENDAR
