BEGIN:VCALENDAR
VERSION:2.0
PRODID:-//ChamberMaster//Event Calendar 2.0//EN
METHOD:PUBLISH
X-PUBLISHED-TTL:P3D
REFRESH-INTERVAL:P3D
CALSCALE:GREGORIAN
BEGIN:VEVENT
DTSTART:20191224T013000Z
DTEND:20191224T030000Z
X-MICROSOFT-CDO-ALLDAYEVENT:FALSE
SUMMARY:"Heavenly Peace" performed by The Beacon Hill Jazz Ensemble
DESCRIPTION:The Zephyr Theatre\, Stillwater\,  is proud to present The Beacon Hill Jazz Ensemble\, presenting a holiday concert\, "Heavenly Peace\," on Monday\, December 23 at 7:30pm.  This amazing group consists of local Minnesota jazz artists.
X-ALT-DESC;FMTTYPE=text/html:The Zephyr Theatre\, Stillwater\,&nbsp\; is proud to present The Beacon Hill Jazz Ensemble\, presenting a holiday concert\, &quot\;Heavenly Peace\,&quot\; on Monday\, December 23 at 7:30pm.&nbsp\; This amazing group consists of local Minnesota jazz artists.
LOCATION:The Zephyr Theatre\, 601 Main St.\, N.\, Stillwater\, MN 55082
UID:e.257.30218
SEQUENCE:3
DTSTAMP:20260422T043736Z
URL:http://members.greaterstillwaterchamber.com/events/details/heavenly-peace-performed-by-the-beacon-hill-jazz-ensemble-30218
END:VEVENT

END:VCALENDAR
