BEGIN:VCALENDAR
VERSION:2.0
PRODID:-//ChamberMaster//Event Calendar 2.0//EN
METHOD:PUBLISH
X-PUBLISHED-TTL:P3D
REFRESH-INTERVAL:P3D
CALSCALE:GREGORIAN
BEGIN:VEVENT
DTSTART:20200922T000000Z
DTEND:20200922T013000Z
X-MICROSOFT-CDO-ALLDAYEVENT:FALSE
SUMMARY:Guest Night with Vallee De Croix Women's Barbershop Chorus
DESCRIPTION:Join us for an evening of music and fun.  \n\nDepending on time\, we will offer an introduction to 4-part harmony with some vocal instruction\, participation\, and a competition video.\n\nLinger afterwards for a social hour.\n\nSing with carefree abandon!  All voices are muted while singing due to the Zoom time lag.  We will sing with recorded learning tracks.\n\nWe enjoy ourselves so much at our practices and we would love to share that joy with you.\n\nLooking forward to meeting you!
X-ALT-DESC;FMTTYPE=text/html:<span style="font-family:book antiqua\,serif"><span style="font-size:14.0pt">Join us for an evening of music and fun.&nbsp\; </span></span><br />\n<span style="font-family:book antiqua\,serif"><span style="font-size:14.0pt">Depending on time\, we will offer an introduction to 4-part harmony with some vocal instruction\, participation\, and a competition video.</span></span><br />\n<span style="font-family:book antiqua\,serif"><span style="font-size:14.0pt">Linger afterwards for a social hour.</span></span><br />\n<span style="font-family:book antiqua\,serif"><span style="font-size:14.0pt">Sing with carefree abandon!&nbsp\; All voices are muted while singing due to the Zoom time lag.&nbsp\; We will sing with recorded learning tracks.</span></span><br />\n<span style="font-family:book antiqua\,serif"><span style="font-size:14.0pt">We enjoy ourselves so much at our practices and we would love to share that joy with you.<br />\nLooking forward to meeting you!</span></span><br />\n<br />\n&nbsp\;
LOCATION:Zoom
UID:e.257.31471
SEQUENCE:3
DTSTAMP:20260421T151826Z
URL:http://members.greaterstillwaterchamber.com/events/details/guest-night-with-vallee-de-croix-women-s-barbershop-chorus-31471
END:VEVENT

END:VCALENDAR
