BEGIN:VCALENDAR
VERSION:2.0
PRODID:-//ChamberMaster//Event Calendar 2.0//EN
METHOD:PUBLISH
X-PUBLISHED-TTL:P3D
REFRESH-INTERVAL:P3D
CALSCALE:GREGORIAN
BEGIN:VEVENT
DTSTART:20201214T160000Z
DTEND:20201214T163000Z
X-MICROSOFT-CDO-ALLDAYEVENT:FALSE
SUMMARY:Greater Stillwater Chamber - Member Online Benefits Training Webinar
DESCRIPTION:It's a great time to learn more about your Chamber member online benefits\, including how to post hot deals/community deals or list job or volunteer opportunities via job postings\, and in general how to be more visible online so people can find you now and in the future.\n\n \n\nIn this session\, you will learn  \n\n	How to login and effectively utilize your personal Chamber Member Information Center (MIC) to update your business information and network with other members\, among other features\n	How to create and post hot deals/community deals and job postings in the MIC and on the Chamber website\n	How consumers find your business listing and how to be more visible\, including website banner ad opportunities\n\nClick this link to register for the Zoom Session on Monday\, December 14 at 10 am (no video required) to receive your Zoom confirmation email with the link to join at the time of the webinar: https://us02web.zoom.us/meeting/register/tZ0kf--prTosG9QsYZjgWC35CYqntG9vyVtQ\n\n\n\nOr\, click this link to register for the Zoom Session on Monday\, January 25 at 1 pm (no video required) to receive your Zoom confirmation email with the link to join at the time of the webinar:https://us02web.zoom.us/meeting/register/tZYlcO2upzsoGtIQkr_J6oICi5vhBihFPPCf
X-ALT-DESC;FMTTYPE=text/html:<br />\nIt&rsquo\;s a great time to learn more about your Chamber member online benefits\, including how to post hot deals/community deals or list job or volunteer opportunities via job postings\, and in general how to be more visible online so people can find you now and in the future.<br />\n&nbsp\;<br />\nIn this session\, you will learn&hellip\;&hellip\;\n<ul>\n	<li>How to login and effectively utilize your personal Chamber Member Information Center (MIC) to update your business information and network with other members\, among other features</li>\n	<li>How to create and post hot deals/community deals and job postings in the MIC and on the Chamber website</li>\n	<li>How consumers find your business listing and how to be more visible\, including website banner ad opportunities</li>\n</ul>\n<strong><span style="color:mediumblue\;"><span style="font-family:calibri\,sans-serif\;">Click this link to register for the Zoom Session on Monday\, December 14 at 10 am (no video required) to receive your Zoom confirmation email with the link to join at the time of the webinar: </span></span></strong><a href="https://us02web.zoom.us/meeting/register/tZ0kf--prTosG9QsYZjgWC35CYqntG9vyVtQ" style="word-wrap: break-word\;" target="_blank">https://us02web.zoom.us/meeting/register/tZ0kf--prTosG9QsYZjgWC35CYqntG9vyVtQ</a><br />\n<br />\n<strong><span style="color:mediumblue\;"><span style="font-family:calibri\,sans-serif\;">Or\, click this link to register for the Zoom Session on Monday\, January 25 at 1 pm (no video required) to receive your Zoom confirmation email with the link to join at the time of the webinar:</span></span></strong><a href="https://us02web.zoom.us/meeting/register/tZYlcO2upzsoGtIQkr_J6oICi5vhBihFPPCf" style="word-wrap: break-word\;" target="_blank">https://us02web.zoom.us/meeting/register/tZYlcO2upzsoGtIQkr_J6oICi5vhBihFPPCf</a><br />\n<br />\n<br />\n<br />\n&nbsp\;
LOCATION:Join from your own computer via a Zoom session Click this link to register for the Zoom Session on Monday\, December 14 at 10 am (no video required) to receive your Zoom confirmation email with the link to join at the time of the webinar: https://us02web.zoom.us/meeting/register/tZ0kf--prTosG9QsYZjgWC35CYqntG9vyVtQ Or\, click this link to register for the Zoom Session on Monday\, January 25 at 1 pm (no video required) to receive your Zoom confirmation email with the link to join at the time of the webinar:https://us02web.zoom.us/meeting/register/tZYlcO2upzsoGtIQkr_J6oICi5vhBihFPPCf
UID:e.257.32379
SEQUENCE:3
DTSTAMP:20260421T112522Z
URL:http://members.greaterstillwaterchamber.com/events/details/greater-stillwater-chamber-member-online-benefits-training-webinar-32379
END:VEVENT

END:VCALENDAR
