BEGIN:VCALENDAR
VERSION:2.0
PRODID:-//ChamberMaster//Event Calendar 2.0//EN
METHOD:PUBLISH
X-PUBLISHED-TTL:P3D
REFRESH-INTERVAL:P3D
CALSCALE:GREGORIAN
BEGIN:VEVENT
DTSTART:20240922T160000Z
DTEND:20240922T180000Z
X-MICROSOFT-CDO-ALLDAYEVENT:FALSE
SUMMARY:Grand Opening Celebrating
DESCRIPTION:Food * Music * Fun We invite you to celebrate with us at our grand opening! Light brunch\, music\, self-guided building tour\, children's activities (face painting w/ a firefighter\, button making w/ a local librarian). The celebration culminates in a 12:30pm service of blessing led by clergy from various local faith communities. St. Croix United Church was born in October 2023 from a merger of People's Congregational and St. Peter's UCC. We affirmed our values\, vision and mission as a new church in August 2024!
X-ALT-DESC;FMTTYPE=text/html:Food * Music * Fun We invite you to celebrate with us at our grand opening! Light brunch\, music\, self-guided building tour\, children&#39\;s activities (face painting w/ a firefighter\, button making w/ a local librarian). The celebration culminates in a 12:30pm service of blessing led by clergy from various local faith communities. St. Croix United Church was born in October 2023 from a merger of People&#39\;s Congregational and St. Peter&#39\;s UCC. We affirmed our values\, vision and mission as a new church in August 2024!
LOCATION:St. Croix United Church 309 N. Third St Bayport\, MN 55003
UID:e.257.38661
SEQUENCE:3
DTSTAMP:20260424T091608Z
URL:http://members.greaterstillwaterchamber.com/events/details/grand-opening-celebrating-38661
END:VEVENT

END:VCALENDAR
