BEGIN:VCALENDAR
VERSION:2.0
PRODID:-//ChamberMaster//Event Calendar 2.0//EN
METHOD:PUBLISH
X-PUBLISHED-TTL:P3D
REFRESH-INTERVAL:P3D
CALSCALE:GREGORIAN
BEGIN:VEVENT
DTSTART:20250917T210000Z
DTEND:20250918T010000Z
X-MICROSOFT-CDO-ALLDAYEVENT:FALSE
SUMMARY:Cruisin' on the Croix
DESCRIPTION:Cruisin' on the Croix invites owners and car lovers to exhibit and view vintage\, classic\, street and hot rod automobiles in a beautiful river town stetting of Stillwater\, Minnesota. We have dashboard plaques for the first 100 cars and a terrific crew to welcome owners into the show. From genuine antique cars to sublime '50s roadsters\, visitors can see it all!
X-ALT-DESC;FMTTYPE=text/html:Cruisin&rsquo\; on the Croix invites owners and car lovers to exhibit and view vintage\, classic\, street and hot rod automobiles in a beautiful river town stetting of Stillwater\, Minnesota. We have dashboard plaques for the first 100 cars and a terrific crew to welcome owners into the show. From genuine antique cars to sublime &rsquo\;50s roadsters\, visitors can see it all!
LOCATION:Lowell Park\, by Historic Lift Bridge
UID:e.257.43437
SEQUENCE:3
DTSTAMP:20260421T232007Z
URL:http://members.greaterstillwaterchamber.com/events/details/cruisin-on-the-croix-09-17-2025-43437
END:VEVENT

END:VCALENDAR
