BEGIN:VCALENDAR
VERSION:2.0
PRODID:-//ChamberMaster//Event Calendar 2.0//EN
METHOD:PUBLISH
X-PUBLISHED-TTL:P3D
REFRESH-INTERVAL:P3D
CALSCALE:GREGORIAN
BEGIN:VEVENT
DTSTART:20251229T000000Z
DTEND:20251229T011500Z
X-MICROSOFT-CDO-ALLDAYEVENT:FALSE
SUMMARY:Comedy Night at the Stillwater Bowl and Lounge
DESCRIPTION:Stand-up comic Jay Harris will be performing at the Stillwater Bowl and Lounge. Advanced tickets may be purchased at the Bowl\, or by calling 651-439-2444. Advance tickets are $25 each\, which includes drink and meal option (pulled pork or menu appetizer of choice). Come early for socializing at 4:45. Serving at 5:15\; show starts at 6:00. Jay's style is clean\, fit for any audience\, self-deprecating\, and very relatable!
X-ALT-DESC;FMTTYPE=text/html:Stand-up comic Jay Harris will be performing at the Stillwater Bowl and Lounge. Advanced tickets may be purchased at the Bowl\, or by calling 651-439-2444. Advance tickets are $25 each\, which includes drink and meal option (pulled pork or menu appetizer of choice). Come early for socializing at 4:45. Serving at 5:15\; show starts at 6:00. Jay&#39\;s style is clean\, fit for any audience\, self-deprecating\, and very relatable!
LOCATION:Stillwater Bowl and Lounge 5862 Omaha Avenue North Oak Park Heights\, MN 55082
UID:e.257.48039
SEQUENCE:3
DTSTAMP:20260421T191319Z
URL:http://members.greaterstillwaterchamber.com/events/details/comedy-night-at-the-stillwater-bowl-and-lounge-48039
END:VEVENT

END:VCALENDAR
