BEGIN:VCALENDAR
VERSION:2.0
PRODID:-//ChamberMaster//Event Calendar 2.0//EN
METHOD:PUBLISH
X-PUBLISHED-TTL:P3D
REFRESH-INTERVAL:P3D
CALSCALE:GREGORIAN
BEGIN:VEVENT
DTSTART:20191207T150000Z
DTEND:20191207T170000Z
X-MICROSOFT-CDO-ALLDAYEVENT:FALSE
SUMMARY:Breakfast with Santa
DESCRIPTION:Breakfast with Santa\n\nOne of Santa's first stops this year is at the\n\nHISTORIC AFTON HOUSE INN\n\nHe'll be here again in order to enjoy\n\nour delicious breakfast buffet in the Winter Wonderfully Decorated Wheel Room\n\nBuffet Menu:\n\nFresh Fruit\, French Toast Bake\, Honey Smoked Ham\n\nBagels & Cream Cheese\, Cheesy Hashbrown Potatoes\n\nScrambled Eggs & Scrambled Eggs Benedict\n\nKielbasa & Sausage Links\n\nCereal\, French Toast\, Pastries & Muffins\n\nOrange Juice & Coffee\n\n~PLUS~\n\nBring your Camera to take Photos with Santa.  Many activities throughout Afton.  Don't forget to ask about the FREE Horse & Wagon Rides!\n\nPlease Call 651-436-8883 for reservations
X-ALT-DESC;FMTTYPE=text/html:<p style="text-align: center\;"><strong>Breakfast with Santa</strong></p>\n\n<p style="text-align: center\;"><strong>One of Santa&rsquo\;s first stops this year is at the<br />\n<em>HISTORIC AFTON HOUSE INN</em></strong></p>\n\n<p style="text-align: center\;">He&rsquo\;ll be here again in order to enjoy<br />\nour delicious breakfast buffet in the Winter Wonderfully Decorated&nbsp\;<strong>Wheel Room</strong></p>\n\n<p style="text-align: center\;">Buffet Menu:<br />\nFresh Fruit\, French Toast Bake\, Honey Smoked Ham<br />\nBagels &amp\; Cream Cheese\,&nbsp\;Cheesy Hashbrown Potatoes<br />\nScrambled Eggs &amp\; Scrambled Eggs Benedict<br />\nKielbasa &amp\; Sausage Links<br />\nCereal\, French Toast\, Pastries &amp\; Muffins<br />\nOrange Juice &amp\; Coffee</p>\n\n<p style="text-align: center\;">~PLUS~<br />\n<strong>Bring your Camera to take Photos with Santa.&nbsp\; Many activities throughout Afton.&nbsp\;&nbsp\;</strong><strong>Don&rsquo\;t forget to ask about the FREE Horse &amp\; Wagon Rides!<br />\nPlease Call 651-436-8883 for reservations</strong></p>\n
LOCATION:The Historic Afton House Inn
UID:e.257.24273
SEQUENCE:3
DTSTAMP:20260422T060352Z
URL:http://members.greaterstillwaterchamber.com/events/details/breakfast-with-santa-24273
END:VEVENT

END:VCALENDAR
