BEGIN:VCALENDAR
VERSION:2.0
PRODID:-//ChamberMaster//Event Calendar 2.0//EN
METHOD:PUBLISH
X-PUBLISHED-TTL:P3D
REFRESH-INTERVAL:P3D
CALSCALE:GREGORIAN
BEGIN:VEVENT
DTSTART:20190922T200000Z
DTEND:20190922T220000Z
X-MICROSOFT-CDO-ALLDAYEVENT:FALSE
SUMMARY:Anda Flamenco Dance Concert
DESCRIPTION:Anda Flamenco Company has continued to bring the passionate purity of authentic Spanish flamenco to their captivated and loyal Twin Cities audiences since 2002. Come enjoy the forceful beauty of this Spanish folk art form with all of its virtuoso guitar mastery and percussive footwork.
X-ALT-DESC;FMTTYPE=text/html:Anda Flamenco Company has continued to bring the passionate purity of authentic Spanish flamenco to their captivated and loyal Twin Cities audiences since 2002. Come enjoy the forceful beauty of this Spanish folk art form with all of its virtuoso guitar mastery and percussive footwork.
LOCATION:The Zephyr Theatre\, 601 Main Street North\, Stillwater\, MN 55082
UID:e.257.29962
SEQUENCE:3
DTSTAMP:20260422T092211Z
URL:http://members.greaterstillwaterchamber.com/events/details/anda-flamenco-dance-concert-29962
END:VEVENT

END:VCALENDAR
