BEGIN:VCALENDAR
VERSION:2.0
PRODID:-//ChamberMaster//Event Calendar 2.0//EN
METHOD:PUBLISH
X-PUBLISHED-TTL:P3D
REFRESH-INTERVAL:P3D
CALSCALE:GREGORIAN
BEGIN:VEVENT
DTSTART:20200927T210000Z
DTEND:20200927T230000Z
X-MICROSOFT-CDO-ALLDAYEVENT:FALSE
SUMMARY:Anda Flamenco Company presents “La FlamenCo VidA”
DESCRIPTION:Anda Flamenco is thrilled to have a chance to make music and dance once again in real time! After spending months behind closed doors\, we are all very grateful to the Zephyr for providing a venue for us to release all our pent-up energy in the form of a colorful\, passionate\, and vibrant toast to the Spanish flamenco life!
X-ALT-DESC;FMTTYPE=text/html:Anda Flamenco is thrilled to have a chance to make music and dance once again in real time! After spending months behind closed doors\, we are all very grateful to the Zephyr for providing a venue for us to release all our pent-up energy in the form of a colorful\, passionate\, and vibrant toast to the Spanish flamenco life!
LOCATION:The Zephyr Theatre\, Stillwater\, MN
UID:e.257.31477
SEQUENCE:3
DTSTAMP:20260421T151950Z
URL:http://members.greaterstillwaterchamber.com/events/details/anda-flamenco-company-presents-la-flamenco-vida-31477
END:VEVENT

END:VCALENDAR
