BEGIN:VCALENDAR
VERSION:2.0
PRODID:-//ChamberMaster//Event Calendar 2.0//EN
METHOD:PUBLISH
X-PUBLISHED-TTL:P3D
REFRESH-INTERVAL:P3D
CALSCALE:GREGORIAN
BEGIN:VEVENT
DTSTART:20201222T220000Z
DTEND:20201222T230000Z
X-MICROSOFT-CDO-ALLDAYEVENT:FALSE
SUMMARY:Ambassador Meeting on ZOOM
DESCRIPTION:JOIN US on Tuesday\, December 22nd at 4:00 p.m. on Zoom for our monthly Ambassadors meeting. \n\nWe will discuss current happenings and upcoming events and opportunities! \n\n\n\n\n\nPlease RSVP and the link will be sent to you before the meeting....the link is also posted in the private A-Team group page on Facebook.
X-ALT-DESC;FMTTYPE=text/html:<br />\n<span style="box-sizing: border-box\; outline: 0px\; font-family: Raleway\, sans-serif\; font-size: 16px\; letter-spacing: 0.5px\; background-color: rgb(249\, 249\, 249)\; color: rgb(0\, 0\, 128)\;"><span style="box-sizing: content-box\; outline: none 0px\; font-variant-numeric: normal\; font-variant-east-asian: normal\; font-stretch: normal\; font-size: 18px\; line-height: 23.4px\; font-family: arial\; background: none 0% 0% / auto repeat scroll padding-box border-box transparent\; inset: auto\; clear: none\; content: normal\; direction: ltr\; empty-cells: show\; margin: 0px\; max-height: none\; max-width: none\; min-height: 0px\; min-width: 0px\; opacity: 1\; outline-offset: 0px\; overflow: visible\; padding: 0px\; position: static\; resize: none\; table-layout: auto\; text-overflow: clip\; vertical-align: baseline\; visibility: visible\; word-break: normal\; overflow-wrap: normal\; z-index: auto\; border: 0px none rgb(68\, 68\, 68)\; border-collapse: separate\; border-radius: 0px\; height: auto\; width: auto\; box-shadow: none\;"><span style="box-sizing: content-box\; outline: none 0px\; inset: auto\; clear: none\; content: normal\; direction: ltr\; empty-cells: show\; font-style: inherit\; font-variant-ligatures: inherit\; font-variant-caps: inherit\; font-variant-numeric: normal\; font-variant-east-asian: normal\; font-weight: inherit\; font-stretch: 100%\; font-size: inherit\; font-family: inherit\; letter-spacing: inherit\; line-height: 23.4px\; margin: 0px\; max-height: none\; max-width: none\; min-height: 0px\; min-width: 0px\; opacity: 1\; outline-offset: 0px\; overflow: visible\; padding: 0px\; position: static\; resize: none\; table-layout: auto\; text-align: inherit\; text-indent: inherit\; text-overflow: clip\; text-transform: inherit\; vertical-align: baseline\; visibility: visible\; white-space: inherit\; word-break: normal\; word-spacing: inherit\; overflow-wrap: normal\; z-index: auto\; background: none 0% 0% / auto repeat scroll padding-box border-box transparent\; border: 0px none rgb(51\, 51\, 51)\; border-collapse: separate\; border-radius: 0px\; height: auto\; width: auto\; box-shadow: none\;"><span style="box-sizing: content-box\; outline: none 0px\; inset: auto\; clear: none\; content: normal\; direction: ltr\; empty-cells: show\; font-style: inherit\; font-variant-ligatures: inherit\; font-variant-caps: inherit\; font-variant-numeric: normal\; font-variant-east-asian: normal\; font-weight: inherit\; font-stretch: 100%\; font-size: inherit\; font-family: inherit\; letter-spacing: inherit\; line-height: 23.4px\; margin: 0px\; max-height: none\; max-width: none\; min-height: 0px\; min-width: 0px\; opacity: 1\; outline-offset: 0px\; overflow: visible\; padding: 0px\; position: static\; resize: none\; table-layout: auto\; text-align: inherit\; text-indent: inherit\; text-overflow: clip\; text-transform: inherit\; vertical-align: baseline\; visibility: visible\; white-space: inherit\; word-break: normal\; word-spacing: inherit\; overflow-wrap: normal\; z-index: auto\; background: none 0% 0% / auto repeat scroll padding-box border-box transparent\; border: 0px none rgb(178\, 34\, 34)\; border-collapse: separate\; border-radius: 0px\; height: auto\; width: auto\; box-shadow: none\;"><span style="box-sizing: content-box\; outline: none 0px\; inset: auto\; clear: none\; content: normal\; direction: ltr\; empty-cells: show\; font-style: inherit\; font-variant-ligatures: inherit\; font-variant-caps: inherit\; font-variant-numeric: normal\; font-variant-east-asian: normal\; font-weight: inherit\; font-stretch: 100%\; font-size: inherit\; font-family: inherit\; letter-spacing: inherit\; line-height: 23.4px\; margin: 0px\; max-height: none\; max-width: none\; min-height: 0px\; min-width: 0px\; opacity: 1\; outline-offset: 0px\; overflow: visible\; padding: 0px\; position: static\; resize: none\; table-layout: auto\; text-align: inherit\; text-indent: inherit\; text-overflow: clip\; text-transform: inherit\; vertical-align: baseline\; visibility: visible\; white-space: inherit\; word-break: normal\; word-spacing: inherit\; overflow-wrap: normal\; z-index: auto\; background: none 0% 0% / auto repeat scroll padding-box border-box transparent\; border: 0px none rgb(178\, 34\, 34)\; border-collapse: separate\; border-radius: 0px\; height: auto\; width: auto\; box-shadow: none\;"><span style="box-sizing: content-box\; outline: none 0px\; inset: auto\; clear: none\; content: normal\; direction: ltr\; empty-cells: show\; font-style: inherit\; font-variant-ligatures: inherit\; font-variant-caps: inherit\; font-variant-numeric: normal\; font-variant-east-asian: normal\; font-weight: 700\; font-stretch: 100%\; font-size: inherit\; font-family: inherit\; letter-spacing: inherit\; line-height: 23.4px\; margin: 0px\; max-height: none\; max-width: none\; min-height: 0px\; min-width: 0px\; opacity: 1\; outline-offset: 0px\; overflow: visible\; padding: 0px\; position: static\; resize: none\; table-layout: auto\; text-align: inherit\; text-indent: inherit\; text-overflow: clip\; text-transform: inherit\; vertical-align: baseline\; visibility: visible\; white-space: inherit\; word-break: normal\; word-spacing: inherit\; overflow-wrap: normal\; z-index: auto\; background: none 0% 0% / auto repeat scroll padding-box border-box transparent\; border: 0px none rgb(178\, 34\, 34)\; border-collapse: separate\; border-radius: 0px\; height: auto\; width: auto\; box-shadow: none\;">JOIN US on&nbsp\;<em style="box-sizing: border-box\;">Tuesday</em>\, December 22nd at 4:00 p.m. on Zoom</span></span></span></span></span></span><span style="box-sizing: content-box\; font-variant-numeric: normal\; font-variant-east-asian: normal\; font-stretch: normal\; font-size: 18px\; line-height: 23.4px\; font-family: arial\; letter-spacing: 0.5px\; background: none 0% 0% / auto repeat scroll padding-box border-box transparent\; inset: auto\; clear: none\; color: rgb(68\, 68\, 68)\; content: normal\; direction: ltr\; empty-cells: show\; margin: 0px\; max-height: none\; max-width: none\; min-height: 0px\; min-width: 0px\; opacity: 1\; outline-offset: 0px\; overflow: visible\; padding: 0px\; position: static\; resize: none\; table-layout: auto\; text-overflow: clip\; vertical-align: baseline\; visibility: visible\; word-break: normal\; overflow-wrap: normal\; z-index: auto\; border: 0px none rgb(68\, 68\, 68)\; border-collapse: separate\; border-radius: 0px\; height: auto\; width: auto\; box-shadow: none\; outline-style: none\; outline-width: 0px\;"><span style="box-sizing: content-box\; inset: auto\; clear: none\; color: inherit\; content: normal\; direction: ltr\; empty-cells: show\; font-style: inherit\; font-variant-ligatures: inherit\; font-variant-caps: inherit\; font-variant-numeric: normal\; font-variant-east-asian: normal\; font-weight: inherit\; font-stretch: 100%\; font-size: inherit\; font-family: inherit\; letter-spacing: inherit\; line-height: 23.4px\; margin: 0px\; max-height: none\; max-width: none\; min-height: 0px\; min-width: 0px\; opacity: 1\; outline-offset: 0px\; overflow: visible\; padding: 0px\; position: static\; resize: none\; table-layout: auto\; text-align: inherit\; text-indent: inherit\; text-overflow: clip\; text-transform: inherit\; vertical-align: baseline\; visibility: visible\; white-space: inherit\; word-break: normal\; word-spacing: inherit\; overflow-wrap: normal\; z-index: auto\; background: none 0% 0% / auto repeat scroll padding-box border-box transparent\; border: 0px none rgb(51\, 51\, 51)\; border-collapse: separate\; border-radius: 0px\; height: auto\; width: auto\; box-shadow: none\; outline-style: none\; outline-width: 0px\;"><span style="box-sizing: content-box\; inset: auto\; clear: none\; color: rgb(178\, 34\, 34)\; content: normal\; direction: ltr\; empty-cells: show\; font-style: inherit\; font-variant-ligatures: inherit\; font-variant-caps: inherit\; font-variant-numeric: normal\; font-variant-east-asian: normal\; font-weight: inherit\; font-stretch: 100%\; font-size: inherit\; font-family: inherit\; letter-spacing: inherit\; line-height: 23.4px\; margin: 0px\; max-height: none\; max-width: none\; min-height: 0px\; min-width: 0px\; opacity: 1\; outline-offset: 0px\; overflow: visible\; padding: 0px\; position: static\; resize: none\; table-layout: auto\; text-align: inherit\; text-indent: inherit\; text-overflow: clip\; text-transform: inherit\; vertical-align: baseline\; visibility: visible\; white-space: inherit\; word-break: normal\; word-spacing: inherit\; overflow-wrap: normal\; z-index: auto\; background: none 0% 0% / auto repeat scroll padding-box border-box transparent\; border: 0px none rgb(178\, 34\, 34)\; border-collapse: separate\; border-radius: 0px\; height: auto\; width: auto\; box-shadow: none\; outline-style: none\; outline-width: 0px\;"><span style="box-sizing: content-box\; inset: auto\; clear: none\; color: inherit\; content: normal\; direction: ltr\; empty-cells: show\; font-style: inherit\; font-variant-ligatures: inherit\; font-variant-caps: inherit\; font-variant-numeric: normal\; font-variant-east-asian: normal\; font-weight: inherit\; font-stretch: 100%\; font-size: inherit\; font-family: inherit\; letter-spacing: inherit\; line-height: 23.4px\; margin: 0px\; max-height: none\; max-width: none\; min-height: 0px\; min-width: 0px\; opacity: 1\; outline-offset: 0px\; overflow: visible\; padding: 0px\; position: static\; resize: none\; table-layout: auto\; text-align: inherit\; text-indent: inherit\; text-overflow: clip\; text-transform: inherit\; vertical-align: baseline\; visibility: visible\; white-space: inherit\; word-break: normal\; word-spacing: inherit\; overflow-wrap: normal\; z-index: auto\; background: none 0% 0% / auto repeat scroll padding-box border-box transparent\; border: 0px none rgb(178\, 34\, 34)\; border-collapse: separate\; border-radius: 0px\; height: auto\; width: auto\; box-shadow: none\; outline-style: none\; outline-width: 0px\;"><span style="box-sizing: content-box\; inset: auto\; clear: none\; color: inherit\; content: normal\; direction: ltr\; empty-cells: show\; font-style: inherit\; font-variant-ligatures: inherit\; font-variant-caps: inherit\; font-variant-numeric: normal\; font-variant-east-asian: normal\; font-weight: 700\; font-stretch: 100%\; font-size: inherit\; font-family: inherit\; letter-spacing: inherit\; line-height: 23.4px\; margin: 0px\; max-height: none\; max-width: none\; min-height: 0px\; min-width: 0px\; opacity: 1\; outline-offset: 0px\; overflow: visible\; padding: 0px\; position: static\; resize: none\; table-layout: auto\; text-align: inherit\; text-indent: inherit\; text-overflow: clip\; text-transform: inherit\; vertical-align: baseline\; visibility: visible\; white-space: inherit\; word-break: normal\; word-spacing: inherit\; overflow-wrap: normal\; z-index: auto\; background: none 0% 0% / auto repeat scroll padding-box border-box transparent\; border: 0px none rgb(178\, 34\, 34)\; border-collapse: separate\; border-radius: 0px\; height: auto\; width: auto\; box-shadow: none\; outline-style: none\; outline-width: 0px\;">&nbsp\;</span></span></span></span></span><span style="box-sizing: content-box\; font-variant-numeric: normal\; font-variant-east-asian: normal\; font-stretch: normal\; font-size: 14px\; line-height: 18.2px\; font-family: arial\; letter-spacing: 0.5px\; background: none 0% 0% / auto repeat scroll padding-box border-box transparent\; inset: auto\; clear: none\; color: rgb(68\, 68\, 68)\; content: normal\; direction: ltr\; empty-cells: show\; margin: 0px\; max-height: none\; max-width: none\; min-height: 0px\; min-width: 0px\; opacity: 1\; outline-offset: 0px\; overflow: visible\; padding: 0px\; position: static\; resize: none\; table-layout: auto\; text-overflow: clip\; vertical-align: baseline\; visibility: visible\; word-break: normal\; overflow-wrap: normal\; z-index: auto\; border: 0px none rgb(51\, 51\, 51)\; border-collapse: separate\; border-radius: 0px\; height: auto\; width: auto\; box-shadow: none\; outline-style: none\; outline-width: 0px\;"><span style="box-sizing: content-box\; inset: auto\; clear: none\; color: inherit\; content: normal\; direction: ltr\; empty-cells: show\; font-style: inherit\; font-variant-ligatures: inherit\; font-variant-caps: inherit\; font-variant-numeric: normal\; font-variant-east-asian: normal\; font-weight: inherit\; font-stretch: 100%\; font-size: inherit\; font-family: inherit\; letter-spacing: inherit\; line-height: 20.8px\; margin: 0px\; max-height: none\; max-width: none\; min-height: 0px\; min-width: 0px\; opacity: 1\; outline-offset: 0px\; overflow: visible\; padding: 0px\; position: static\; resize: none\; table-layout: auto\; text-align: inherit\; text-indent: inherit\; text-overflow: clip\; text-transform: inherit\; vertical-align: baseline\; visibility: visible\; white-space: inherit\; word-break: normal\; word-spacing: inherit\; overflow-wrap: normal\; z-index: auto\; background: none 0% 0% / auto repeat scroll padding-box border-box transparent\; border: 0px none rgb(51\, 51\, 51)\; border-collapse: separate\; border-radius: 0px\; height: auto\; width: auto\; box-shadow: none\; outline-style: none\; outline-width: 0px\;"><span style="box-sizing: content-box\; inset: auto\; clear: none\; color: inherit\; content: normal\; direction: ltr\; empty-cells: show\; font-style: inherit\; font-variant-ligatures: inherit\; font-variant-caps: inherit\; font-variant-numeric: normal\; font-variant-east-asian: normal\; font-weight: inherit\; font-stretch: 100%\; font-size: 16px\; font-family: inherit\; letter-spacing: inherit\; line-height: 20.8px\; margin: 0px\; max-height: none\; max-width: none\; min-height: 0px\; min-width: 0px\; opacity: 1\; outline-offset: 0px\; overflow: visible\; padding: 0px\; position: static\; resize: none\; table-layout: auto\; text-align: inherit\; text-indent: inherit\; text-overflow: clip\; text-transform: inherit\; vertical-align: baseline\; visibility: visible\; white-space: inherit\; word-break: normal\; word-spacing: inherit\; overflow-wrap: normal\; z-index: auto\; background: none 0% 0% / auto repeat scroll padding-box border-box transparent\; border: 0px none rgb(68\, 68\, 68)\; border-collapse: separate\; border-radius: 0px\; height: auto\; width: auto\; box-shadow: none\; outline-style: none\; outline-width: 0px\;"><span style="box-sizing: content-box\; inset: auto\; clear: none\; color: rgb(0\, 0\, 0)\; content: normal\; direction: ltr\; empty-cells: show\; font-style: inherit\; font-variant-ligatures: inherit\; font-variant-caps: inherit\; font-variant-numeric: normal\; font-variant-east-asian: normal\; font-weight: inherit\; font-stretch: 100%\; font-size: inherit\; font-family: inherit\; letter-spacing: inherit\; line-height: 18.2px\; margin: 0px\; max-height: none\; max-width: none\; min-height: 0px\; min-width: 0px\; opacity: 1\; outline-offset: 0px\; overflow: visible\; padding: 0px\; position: static\; resize: none\; table-layout: auto\; text-align: inherit\; text-indent: inherit\; text-overflow: clip\; text-transform: inherit\; vertical-align: baseline\; visibility: visible\; white-space: inherit\; word-break: normal\; word-spacing: inherit\; overflow-wrap: normal\; z-index: auto\; background: none 0% 0% / auto repeat scroll padding-box border-box transparent\; border: 0px none rgb(0\, 0\, 0)\; border-collapse: separate\; border-radius: 0px\; height: auto\; width: auto\; box-shadow: none\; outline-style: none\; outline-width: 0px\;">for our monthly Ambassadors meeting.</span></span><span style="box-sizing: content-box\; inset: auto\; clear: none\; color: rgb(0\, 0\, 0)\; content: normal\; direction: ltr\; empty-cells: show\; font-style: inherit\; font-variant-ligatures: inherit\; font-variant-caps: inherit\; font-variant-numeric: normal\; font-variant-east-asian: normal\; font-weight: inherit\; font-stretch: 100%\; font-size: inherit\; font-family: inherit\; letter-spacing: inherit\; line-height: 18.2px\; margin: 0px\; max-height: none\; max-width: none\; min-height: 0px\; min-width: 0px\; opacity: 1\; outline-offset: 0px\; overflow: visible\; padding: 0px\; position: static\; resize: none\; table-layout: auto\; text-align: inherit\; text-indent: inherit\; text-overflow: clip\; text-transform: inherit\; vertical-align: baseline\; visibility: visible\; white-space: inherit\; word-break: normal\; word-spacing: inherit\; overflow-wrap: normal\; z-index: auto\; background: none 0% 0% / auto repeat scroll padding-box border-box transparent\; border: 0px none rgb(0\, 0\, 0)\; border-collapse: separate\; border-radius: 0px\; height: auto\; width: auto\; box-shadow: none\; outline-style: none\; outline-width: 0px\;"><span style="box-sizing: content-box\; inset: auto\; clear: none\; color: inherit\; content: normal\; direction: ltr\; empty-cells: show\; font-style: inherit\; font-variant-ligatures: inherit\; font-variant-caps: inherit\; font-variant-numeric: normal\; font-variant-east-asian: normal\; font-weight: inherit\; font-stretch: 100%\; font-size: 16px\; font-family: inherit\; letter-spacing: inherit\; line-height: 18.2px\; margin: 0px\; max-height: none\; max-width: none\; min-height: 0px\; min-width: 0px\; opacity: 1\; outline-offset: 0px\; overflow: visible\; padding: 0px\; position: static\; resize: none\; table-layout: auto\; text-align: inherit\; text-indent: inherit\; text-overflow: clip\; text-transform: inherit\; vertical-align: baseline\; visibility: visible\; white-space: inherit\; word-break: normal\; word-spacing: inherit\; overflow-wrap: normal\; z-index: auto\; background: none 0% 0% / auto repeat scroll padding-box border-box transparent\; border: 0px none rgb(0\, 0\, 0)\; border-collapse: separate\; border-radius: 0px\; height: auto\; width: auto\; box-shadow: none\; outline-style: none\; outline-width: 0px\;">&nbsp\;<br />\nWe will discuss current happenings and upcoming events and opportunities!&nbsp\;</span></span></span></span><br style="box-sizing: border-box\; font-family: Raleway\, sans-serif\; font-size: 16px\; letter-spacing: 0.5px\; background-color: rgb(249\, 249\, 249)\;" />\n<br style="box-sizing: border-box\; font-family: Raleway\, sans-serif\; font-size: 16px\; letter-spacing: 0.5px\; background-color: rgb(249\, 249\, 249)\;" />\n<br style="box-sizing: border-box\; font-family: Raleway\, sans-serif\; font-size: 16px\; letter-spacing: 0.5px\; background-color: rgb(249\, 249\, 249)\;" />\n<span style="box-sizing: content-box\; letter-spacing: 0.5px\; inset: auto\; clear: none\; color: rgb(178\, 34\, 34)\; content: normal\; direction: inherit\; empty-cells: show\; font-variant-numeric: inherit\; font-variant-east-asian: inherit\; font-weight: 700\; font-stretch: inherit\; font-size: 18px\; font-family: arial\; line-height: inherit\; margin: 0px\; max-height: none\; max-width: none\; min-height: initial\; min-width: initial\; opacity: 1\; outline-offset: 0px\; overflow: visible\; padding: 0px\; position: static\; resize: none\; table-layout: auto\; text-overflow: clip\; vertical-align: baseline\; visibility: inherit\; word-break: inherit\; overflow-wrap: inherit\; z-index: auto\; background: none rgb(249\, 249\, 249)\; border: none\; border-collapse: separate\; border-radius: 0px\; height: auto\; width: auto\; box-shadow: none\;"><em style="box-sizing: border-box\;">Please RSVP and the link will be sent to you before the meeting....the link is also posted in the private A-Team group page on Facebook.</em></span>
LOCATION:This month's meeting will be held on Zoom! Please RSVP and the link will be sent to you before the meeting....the link is also posted in the private A-Team group page on Facebook.
UID:e.257.20916
SEQUENCE:3
DTSTAMP:20260421T113428Z
URL:http://members.greaterstillwaterchamber.com/events/details/ambassador-meeting-on-zoom-12-22-2020-20916
END:VEVENT

END:VCALENDAR
