BEGIN:VCALENDAR
VERSION:2.0
PRODID:-//ChamberMaster//Event Calendar 2.0//EN
METHOD:PUBLISH
X-PUBLISHED-TTL:P3D
REFRESH-INTERVAL:P3D
CALSCALE:GREGORIAN
BEGIN:VEVENT
DTSTART:20201027T210000Z
DTEND:20201027T220000Z
X-MICROSOFT-CDO-ALLDAYEVENT:FALSE
SUMMARY:Ambassador Meeting on ZOOM
DESCRIPTION:JOIN US on Tuesday\, October 27th at 4:00 p.m. on Zoom for our monthly Ambassadors meeting.  We will discuss current happenings and upcoming events and opportunities! \n\n\n\nThis month's meeting will be held on Zoom.\n\n\n\nPlease RSVP and the link will be sent to you before the meeting....the link is also posted in the private A-Team group page on Facebook.\n\n \nPLEASE be sure to respond to the A-Team Feedback Form!\n\nHere is the link again  https://forms.gle/b11nLbstp2wbkJVj7\n\n         &                         !
X-ALT-DESC;FMTTYPE=text/html:<span style="box-sizing: border-box\; outline: 0px\; font-family: Raleway\, sans-serif\; font-size: 16px\; letter-spacing: 0.5px\; background-color: rgb(249\, 249\, 249)\; color: rgb(0\, 0\, 128)\;"><span style="box-sizing: content-box\; outline: none 0px\; font-variant-numeric: normal\; font-variant-east-asian: normal\; font-stretch: normal\; font-size: 18px\; line-height: 23.4px\; font-family: arial\; background: none 0% 0% / auto repeat scroll padding-box border-box transparent\; bottom: auto\; clear: none\; content: normal\; direction: ltr\; empty-cells: show\; left: auto\; margin: 0px\; max-height: none\; max-width: none\; min-height: 0px\; min-width: 0px\; opacity: 1\; outline-offset: 0px\; overflow: visible\; padding: 0px\; position: static\; resize: none\; right: auto\; table-layout: auto\; text-overflow: clip\; top: auto\; vertical-align: baseline\; visibility: visible\; word-break: normal\; overflow-wrap: normal\; z-index: auto\; border: 0px none rgb(68\, 68\, 68)\; border-collapse: separate\; border-radius: 0px\; height: auto\; width: auto\; box-shadow: none\;"><span style="box-sizing: content-box\; outline: none 0px\; bottom: auto\; clear: none\; content: normal\; direction: ltr\; empty-cells: show\; font-style: inherit\; font-variant-ligatures: inherit\; font-variant-caps: inherit\; font-variant-numeric: normal\; font-variant-east-asian: normal\; font-weight: inherit\; font-stretch: 100%\; font-size: inherit\; font-family: inherit\; left: auto\; letter-spacing: inherit\; line-height: 23.4px\; margin: 0px\; max-height: none\; max-width: none\; min-height: 0px\; min-width: 0px\; opacity: 1\; outline-offset: 0px\; overflow: visible\; padding: 0px\; position: static\; resize: none\; right: auto\; table-layout: auto\; text-align: inherit\; text-indent: inherit\; text-overflow: clip\; text-transform: inherit\; top: auto\; vertical-align: baseline\; visibility: visible\; white-space: inherit\; word-break: normal\; word-spacing: inherit\; overflow-wrap: normal\; z-index: auto\; background: none 0% 0% / auto repeat scroll padding-box border-box transparent\; border: 0px none rgb(51\, 51\, 51)\; border-collapse: separate\; border-radius: 0px\; height: auto\; width: auto\; box-shadow: none\;"><span style="box-sizing: content-box\; outline: none 0px\; bottom: auto\; clear: none\; content: normal\; direction: ltr\; empty-cells: show\; font-style: inherit\; font-variant-ligatures: inherit\; font-variant-caps: inherit\; font-variant-numeric: normal\; font-variant-east-asian: normal\; font-weight: inherit\; font-stretch: 100%\; font-size: inherit\; font-family: inherit\; left: auto\; letter-spacing: inherit\; line-height: 23.4px\; margin: 0px\; max-height: none\; max-width: none\; min-height: 0px\; min-width: 0px\; opacity: 1\; outline-offset: 0px\; overflow: visible\; padding: 0px\; position: static\; resize: none\; right: auto\; table-layout: auto\; text-align: inherit\; text-indent: inherit\; text-overflow: clip\; text-transform: inherit\; top: auto\; vertical-align: baseline\; visibility: visible\; white-space: inherit\; word-break: normal\; word-spacing: inherit\; overflow-wrap: normal\; z-index: auto\; background: none 0% 0% / auto repeat scroll padding-box border-box transparent\; border: 0px none rgb(178\, 34\, 34)\; border-collapse: separate\; border-radius: 0px\; height: auto\; width: auto\; box-shadow: none\;"><span style="box-sizing: content-box\; outline: none 0px\; bottom: auto\; clear: none\; content: normal\; direction: ltr\; empty-cells: show\; font-style: inherit\; font-variant-ligatures: inherit\; font-variant-caps: inherit\; font-variant-numeric: normal\; font-variant-east-asian: normal\; font-weight: inherit\; font-stretch: 100%\; font-size: inherit\; font-family: inherit\; left: auto\; letter-spacing: inherit\; line-height: 23.4px\; margin: 0px\; max-height: none\; max-width: none\; min-height: 0px\; min-width: 0px\; opacity: 1\; outline-offset: 0px\; overflow: visible\; padding: 0px\; position: static\; resize: none\; right: auto\; table-layout: auto\; text-align: inherit\; text-indent: inherit\; text-overflow: clip\; text-transform: inherit\; top: auto\; vertical-align: baseline\; visibility: visible\; white-space: inherit\; word-break: normal\; word-spacing: inherit\; overflow-wrap: normal\; z-index: auto\; background: none 0% 0% / auto repeat scroll padding-box border-box transparent\; border: 0px none rgb(178\, 34\, 34)\; border-collapse: separate\; border-radius: 0px\; height: auto\; width: auto\; box-shadow: none\;"><span style="box-sizing: content-box\; outline: none 0px\; bottom: auto\; clear: none\; content: normal\; direction: ltr\; empty-cells: show\; font-style: inherit\; font-variant-ligatures: inherit\; font-variant-caps: inherit\; font-variant-numeric: normal\; font-variant-east-asian: normal\; font-weight: 700\; font-stretch: 100%\; font-size: inherit\; font-family: inherit\; left: auto\; letter-spacing: inherit\; line-height: 23.4px\; margin: 0px\; max-height: none\; max-width: none\; min-height: 0px\; min-width: 0px\; opacity: 1\; outline-offset: 0px\; overflow: visible\; padding: 0px\; position: static\; resize: none\; right: auto\; table-layout: auto\; text-align: inherit\; text-indent: inherit\; text-overflow: clip\; text-transform: inherit\; top: auto\; vertical-align: baseline\; visibility: visible\; white-space: inherit\; word-break: normal\; word-spacing: inherit\; overflow-wrap: normal\; z-index: auto\; background: none 0% 0% / auto repeat scroll padding-box border-box transparent\; border: 0px none rgb(178\, 34\, 34)\; border-collapse: separate\; border-radius: 0px\; height: auto\; width: auto\; box-shadow: none\;">JOIN US on <em>Tuesday</em>\, October 27th at 4:00 p.m. on Zoom</span></span></span></span></span></span><span style="box-sizing: content-box\; font-variant-numeric: normal\; font-variant-east-asian: normal\; font-stretch: normal\; font-size: 18px\; line-height: 23.4px\; font-family: arial\; letter-spacing: 0.5px\; background: none 0% 0% / auto repeat scroll padding-box border-box transparent\; bottom: auto\; clear: none\; color: rgb(68\, 68\, 68)\; content: normal\; direction: ltr\; empty-cells: show\; left: auto\; margin: 0px\; max-height: none\; max-width: none\; min-height: 0px\; min-width: 0px\; opacity: 1\; outline-offset: 0px\; overflow: visible\; padding: 0px\; position: static\; resize: none\; right: auto\; table-layout: auto\; text-overflow: clip\; top: auto\; vertical-align: baseline\; visibility: visible\; word-break: normal\; overflow-wrap: normal\; z-index: auto\; border: 0px none rgb(68\, 68\, 68)\; border-collapse: separate\; border-radius: 0px\; height: auto\; width: auto\; box-shadow: none\; outline-style: none\; outline-width: 0px\;"><span style="box-sizing: content-box\; bottom: auto\; clear: none\; color: inherit\; content: normal\; direction: ltr\; empty-cells: show\; font-style: inherit\; font-variant-ligatures: inherit\; font-variant-caps: inherit\; font-variant-numeric: normal\; font-variant-east-asian: normal\; font-weight: inherit\; font-stretch: 100%\; font-size: inherit\; font-family: inherit\; left: auto\; letter-spacing: inherit\; line-height: 23.4px\; margin: 0px\; max-height: none\; max-width: none\; min-height: 0px\; min-width: 0px\; opacity: 1\; outline-offset: 0px\; overflow: visible\; padding: 0px\; position: static\; resize: none\; right: auto\; table-layout: auto\; text-align: inherit\; text-indent: inherit\; text-overflow: clip\; text-transform: inherit\; top: auto\; vertical-align: baseline\; visibility: visible\; white-space: inherit\; word-break: normal\; word-spacing: inherit\; overflow-wrap: normal\; z-index: auto\; background: none 0% 0% / auto repeat scroll padding-box border-box transparent\; border: 0px none rgb(51\, 51\, 51)\; border-collapse: separate\; border-radius: 0px\; height: auto\; width: auto\; box-shadow: none\; outline-style: none\; outline-width: 0px\;"><span style="box-sizing: content-box\; bottom: auto\; clear: none\; color: rgb(178\, 34\, 34)\; content: normal\; direction: ltr\; empty-cells: show\; font-style: inherit\; font-variant-ligatures: inherit\; font-variant-caps: inherit\; font-variant-numeric: normal\; font-variant-east-asian: normal\; font-weight: inherit\; font-stretch: 100%\; font-size: inherit\; font-family: inherit\; left: auto\; letter-spacing: inherit\; line-height: 23.4px\; margin: 0px\; max-height: none\; max-width: none\; min-height: 0px\; min-width: 0px\; opacity: 1\; outline-offset: 0px\; overflow: visible\; padding: 0px\; position: static\; resize: none\; right: auto\; table-layout: auto\; text-align: inherit\; text-indent: inherit\; text-overflow: clip\; text-transform: inherit\; top: auto\; vertical-align: baseline\; visibility: visible\; white-space: inherit\; word-break: normal\; word-spacing: inherit\; overflow-wrap: normal\; z-index: auto\; background: none 0% 0% / auto repeat scroll padding-box border-box transparent\; border: 0px none rgb(178\, 34\, 34)\; border-collapse: separate\; border-radius: 0px\; height: auto\; width: auto\; box-shadow: none\; outline-style: none\; outline-width: 0px\;"><span style="box-sizing: content-box\; bottom: auto\; clear: none\; color: inherit\; content: normal\; direction: ltr\; empty-cells: show\; font-style: inherit\; font-variant-ligatures: inherit\; font-variant-caps: inherit\; font-variant-numeric: normal\; font-variant-east-asian: normal\; font-weight: inherit\; font-stretch: 100%\; font-size: inherit\; font-family: inherit\; left: auto\; letter-spacing: inherit\; line-height: 23.4px\; margin: 0px\; max-height: none\; max-width: none\; min-height: 0px\; min-width: 0px\; opacity: 1\; outline-offset: 0px\; overflow: visible\; padding: 0px\; position: static\; resize: none\; right: auto\; table-layout: auto\; text-align: inherit\; text-indent: inherit\; text-overflow: clip\; text-transform: inherit\; top: auto\; vertical-align: baseline\; visibility: visible\; white-space: inherit\; word-break: normal\; word-spacing: inherit\; overflow-wrap: normal\; z-index: auto\; background: none 0% 0% / auto repeat scroll padding-box border-box transparent\; border: 0px none rgb(178\, 34\, 34)\; border-collapse: separate\; border-radius: 0px\; height: auto\; width: auto\; box-shadow: none\; outline-style: none\; outline-width: 0px\;"><span style="box-sizing: content-box\; bottom: auto\; clear: none\; color: inherit\; content: normal\; direction: ltr\; empty-cells: show\; font-style: inherit\; font-variant-ligatures: inherit\; font-variant-caps: inherit\; font-variant-numeric: normal\; font-variant-east-asian: normal\; font-weight: 700\; font-stretch: 100%\; font-size: inherit\; font-family: inherit\; left: auto\; letter-spacing: inherit\; line-height: 23.4px\; margin: 0px\; max-height: none\; max-width: none\; min-height: 0px\; min-width: 0px\; opacity: 1\; outline-offset: 0px\; overflow: visible\; padding: 0px\; position: static\; resize: none\; right: auto\; table-layout: auto\; text-align: inherit\; text-indent: inherit\; text-overflow: clip\; text-transform: inherit\; top: auto\; vertical-align: baseline\; visibility: visible\; white-space: inherit\; word-break: normal\; word-spacing: inherit\; overflow-wrap: normal\; z-index: auto\; background: none 0% 0% / auto repeat scroll padding-box border-box transparent\; border: 0px none rgb(178\, 34\, 34)\; border-collapse: separate\; border-radius: 0px\; height: auto\; width: auto\; box-shadow: none\; outline-style: none\; outline-width: 0px\;">&nbsp\;</span></span></span></span></span><span style="box-sizing: content-box\; font-variant-numeric: normal\; font-variant-east-asian: normal\; font-stretch: normal\; font-size: 14px\; line-height: 18.2px\; font-family: arial\; letter-spacing: 0.5px\; background: none 0% 0% / auto repeat scroll padding-box border-box transparent\; bottom: auto\; clear: none\; color: rgb(68\, 68\, 68)\; content: normal\; direction: ltr\; empty-cells: show\; left: auto\; margin: 0px\; max-height: none\; max-width: none\; min-height: 0px\; min-width: 0px\; opacity: 1\; outline-offset: 0px\; overflow: visible\; padding: 0px\; position: static\; resize: none\; right: auto\; table-layout: auto\; text-overflow: clip\; top: auto\; vertical-align: baseline\; visibility: visible\; word-break: normal\; overflow-wrap: normal\; z-index: auto\; border: 0px none rgb(51\, 51\, 51)\; border-collapse: separate\; border-radius: 0px\; height: auto\; width: auto\; box-shadow: none\; outline-style: none\; outline-width: 0px\;"><span style="box-sizing: content-box\; bottom: auto\; clear: none\; color: inherit\; content: normal\; direction: ltr\; empty-cells: show\; font-style: inherit\; font-variant-ligatures: inherit\; font-variant-caps: inherit\; font-variant-numeric: normal\; font-variant-east-asian: normal\; font-weight: inherit\; font-stretch: 100%\; font-size: inherit\; font-family: inherit\; left: auto\; letter-spacing: inherit\; line-height: 20.8px\; margin: 0px\; max-height: none\; max-width: none\; min-height: 0px\; min-width: 0px\; opacity: 1\; outline-offset: 0px\; overflow: visible\; padding: 0px\; position: static\; resize: none\; right: auto\; table-layout: auto\; text-align: inherit\; text-indent: inherit\; text-overflow: clip\; text-transform: inherit\; top: auto\; vertical-align: baseline\; visibility: visible\; white-space: inherit\; word-break: normal\; word-spacing: inherit\; overflow-wrap: normal\; z-index: auto\; background: none 0% 0% / auto repeat scroll padding-box border-box transparent\; border: 0px none rgb(51\, 51\, 51)\; border-collapse: separate\; border-radius: 0px\; height: auto\; width: auto\; box-shadow: none\; outline-style: none\; outline-width: 0px\;"><span style="box-sizing: content-box\; bottom: auto\; clear: none\; color: inherit\; content: normal\; direction: ltr\; empty-cells: show\; font-style: inherit\; font-variant-ligatures: inherit\; font-variant-caps: inherit\; font-variant-numeric: normal\; font-variant-east-asian: normal\; font-weight: inherit\; font-stretch: 100%\; font-size: 16px\; font-family: inherit\; left: auto\; letter-spacing: inherit\; line-height: 20.8px\; margin: 0px\; max-height: none\; max-width: none\; min-height: 0px\; min-width: 0px\; opacity: 1\; outline-offset: 0px\; overflow: visible\; padding: 0px\; position: static\; resize: none\; right: auto\; table-layout: auto\; text-align: inherit\; text-indent: inherit\; text-overflow: clip\; text-transform: inherit\; top: auto\; vertical-align: baseline\; visibility: visible\; white-space: inherit\; word-break: normal\; word-spacing: inherit\; overflow-wrap: normal\; z-index: auto\; background: none 0% 0% / auto repeat scroll padding-box border-box transparent\; border: 0px none rgb(68\, 68\, 68)\; border-collapse: separate\; border-radius: 0px\; height: auto\; width: auto\; box-shadow: none\; outline-style: none\; outline-width: 0px\;"><span style="box-sizing: content-box\; bottom: auto\; clear: none\; color: rgb(0\, 0\, 0)\; content: normal\; direction: ltr\; empty-cells: show\; font-style: inherit\; font-variant-ligatures: inherit\; font-variant-caps: inherit\; font-variant-numeric: normal\; font-variant-east-asian: normal\; font-weight: inherit\; font-stretch: 100%\; font-size: inherit\; font-family: inherit\; left: auto\; letter-spacing: inherit\; line-height: 18.2px\; margin: 0px\; max-height: none\; max-width: none\; min-height: 0px\; min-width: 0px\; opacity: 1\; outline-offset: 0px\; overflow: visible\; padding: 0px\; position: static\; resize: none\; right: auto\; table-layout: auto\; text-align: inherit\; text-indent: inherit\; text-overflow: clip\; text-transform: inherit\; top: auto\; vertical-align: baseline\; visibility: visible\; white-space: inherit\; word-break: normal\; word-spacing: inherit\; overflow-wrap: normal\; z-index: auto\; background: none 0% 0% / auto repeat scroll padding-box border-box transparent\; border: 0px none rgb(0\, 0\, 0)\; border-collapse: separate\; border-radius: 0px\; height: auto\; width: auto\; box-shadow: none\; outline-style: none\; outline-width: 0px\;">for our monthly Ambassadors meeting.</span></span><span style="box-sizing: content-box\; bottom: auto\; clear: none\; color: rgb(0\, 0\, 0)\; content: normal\; direction: ltr\; empty-cells: show\; font-style: inherit\; font-variant-ligatures: inherit\; font-variant-caps: inherit\; font-variant-numeric: normal\; font-variant-east-asian: normal\; font-weight: inherit\; font-stretch: 100%\; font-size: inherit\; font-family: inherit\; left: auto\; letter-spacing: inherit\; line-height: 18.2px\; margin: 0px\; max-height: none\; max-width: none\; min-height: 0px\; min-width: 0px\; opacity: 1\; outline-offset: 0px\; overflow: visible\; padding: 0px\; position: static\; resize: none\; right: auto\; table-layout: auto\; text-align: inherit\; text-indent: inherit\; text-overflow: clip\; text-transform: inherit\; top: auto\; vertical-align: baseline\; visibility: visible\; white-space: inherit\; word-break: normal\; word-spacing: inherit\; overflow-wrap: normal\; z-index: auto\; background: none 0% 0% / auto repeat scroll padding-box border-box transparent\; border: 0px none rgb(0\, 0\, 0)\; border-collapse: separate\; border-radius: 0px\; height: auto\; width: auto\; box-shadow: none\; outline-style: none\; outline-width: 0px\;"><span style="box-sizing: content-box\; bottom: auto\; clear: none\; color: inherit\; content: normal\; direction: ltr\; empty-cells: show\; font-style: inherit\; font-variant-ligatures: inherit\; font-variant-caps: inherit\; font-variant-numeric: normal\; font-variant-east-asian: normal\; font-weight: inherit\; font-stretch: 100%\; font-size: 16px\; font-family: inherit\; left: auto\; letter-spacing: inherit\; line-height: 18.2px\; margin: 0px\; max-height: none\; max-width: none\; min-height: 0px\; min-width: 0px\; opacity: 1\; outline-offset: 0px\; overflow: visible\; padding: 0px\; position: static\; resize: none\; right: auto\; table-layout: auto\; text-align: inherit\; text-indent: inherit\; text-overflow: clip\; text-transform: inherit\; top: auto\; vertical-align: baseline\; visibility: visible\; white-space: inherit\; word-break: normal\; word-spacing: inherit\; overflow-wrap: normal\; z-index: auto\; background: none 0% 0% / auto repeat scroll padding-box border-box transparent\; border: 0px none rgb(0\, 0\, 0)\; border-collapse: separate\; border-radius: 0px\; height: auto\; width: auto\; box-shadow: none\; outline-style: none\; outline-width: 0px\;">&nbsp\; We will discuss current happenings and upcoming events and opportunities!&nbsp\;</span></span></span></span><br style="box-sizing: border-box\; font-family: Raleway\, sans-serif\; font-size: 16px\; letter-spacing: 0.5px\; background-color: rgb(249\, 249\, 249)\;" />\n<br style="box-sizing: content-box\; font-family: Raleway\, sans-serif\; font-size: 16px\; letter-spacing: 0.5px\; bottom: auto\; clear: none\; content: normal\; direction: inherit\; display: inline\; empty-cells: show\; float: none\; font-variant-numeric: inherit\; font-variant-east-asian: inherit\; font-stretch: inherit\; left: auto\; line-height: inherit\; margin: 0px\; max-height: none\; max-width: none\; min-height: initial\; min-width: initial\; opacity: 1\; outline-offset: 0px\; overflow: visible\; padding: 0px\; position: static\; resize: none\; right: auto\; table-layout: auto\; text-overflow: clip\; top: auto\; vertical-align: baseline\; visibility: inherit\; word-break: inherit\; overflow-wrap: inherit\; z-index: auto\; background: none rgb(249\, 249\, 249)\; border: none\; border-collapse: separate\; border-radius: 0px\; height: auto\; width: auto\;" />\n<span style="box-sizing: border-box\; font-family: Raleway\, sans-serif\; font-size: 16px\; letter-spacing: 0.5px\; background-color: rgb(249\, 249\, 249)\; color: rgb(0\, 0\, 128)\;"><span style="box-sizing: content-box\; bottom: auto\; clear: none\; content: normal\; direction: inherit\; empty-cells: show\; font-variant-numeric: inherit\; font-variant-east-asian: inherit\; font-weight: 700\; font-stretch: inherit\; font-size: 18px\; font-family: arial\; left: auto\; line-height: inherit\; margin: 0px\; max-height: none\; max-width: none\; min-height: initial\; min-width: initial\; opacity: 1\; outline-offset: 0px\; overflow: visible\; padding: 0px\; position: static\; resize: none\; right: auto\; table-layout: auto\; text-overflow: clip\; top: auto\; vertical-align: baseline\; visibility: inherit\; word-break: inherit\; overflow-wrap: inherit\; z-index: auto\; background-image: none\; background-position: initial\; background-size: initial\; background-repeat: initial\; background-attachment: initial\; background-origin: initial\; background-clip: initial\; border: none\; border-collapse: separate\; border-radius: 0px\; height: auto\; width: auto\; box-shadow: none\;">This month&#39\;s meeting will be held on Zoom.</span></span><br />\n<br style="box-sizing: border-box\; font-family: Raleway\, sans-serif\; font-size: 16px\; letter-spacing: 0.5px\; background-color: rgb(249\, 249\, 249)\;" />\n<span style="box-sizing: content-box\; letter-spacing: 0.5px\; bottom: auto\; clear: none\; color: rgb(178\, 34\, 34)\; content: normal\; direction: inherit\; empty-cells: show\; font-variant-numeric: inherit\; font-variant-east-asian: inherit\; font-weight: 700\; font-stretch: inherit\; font-size: 18px\; font-family: arial\; left: auto\; line-height: inherit\; margin: 0px\; max-height: none\; max-width: none\; min-height: initial\; min-width: initial\; opacity: 1\; outline-offset: 0px\; overflow: visible\; padding: 0px\; position: static\; resize: none\; right: auto\; table-layout: auto\; text-overflow: clip\; top: auto\; vertical-align: baseline\; visibility: inherit\; word-break: inherit\; overflow-wrap: inherit\; z-index: auto\; background: none rgb(249\, 249\, 249)\; border: none\; border-collapse: separate\; border-radius: 0px\; height: auto\; width: auto\; box-shadow: none\;"><em style="box-sizing: border-box\;">Please RSVP and the link will be sent to you before the meeting....the link is also posted in the private A-Team group page on Facebook.</em></span><br />\n&nbsp\;\n<div class="_2cuy _3dgx _2vxa" style="direction: ltr\; white-space: pre-wrap\; margin: 0px\; padding: 6px 0px 0px\; font-family: Helvetica\, Arial\, sans-serif\; color: rgb(29\, 33\, 41)\; font-size: 14px\;"><span style="font-size:18px\;"><span style="font-family:arial\;"><span style="background-color:#FFD700\;">PLEASE</span><span style="background-color:#FFFFFF\;"> </span>be sure to respond to the A-Team Feedback Form!</span></span></div>\n\n<div class="_2cuy _3dgx _2vxa" style="direction: ltr\; white-space: pre-wrap\; margin: 0px\; padding: 6px 0px 0px\; font-family: Helvetica\, Arial\, sans-serif\; color: rgb(29\, 33\, 41)\; font-size: 14px\;"><span style="font-size:18px\;"><span style="font-family:arial\;">Here is the link again&gt\;&gt\;<a data-lynx-mode="asynclazy" data-lynx-uri="https://l.facebook.com/l.php?u=https%3A%2F%2Fforms.gle%2Fb11nLbstp2wbkJVj7%3Ffbclid%3DIwAR0na9V0i5fkZp3MhffgGJnllh44OrX_vtaN7Z8k0Up5duQS5vlcrD7XhPk&amp\;h=AT0_vynMsrUbEYAAcuVfxbJVH6sRVYxqmUtG5UxQ0yAT63GhRejLvRNnpuHBfRMVr8qF0Csod55Uk9eC0_rBzpfakr05PY_DLEh9lDC6Qdo5e-qagDiYkgWkg4LIjDXaIjTgsUWA9Gkbd7bT6cI6QMQOoEt9Yn-OR8o" href="https://forms.gle/b11nLbstp2wbkJVj7?fbclid=IwAR0na9V0i5fkZp3MhffgGJnllh44OrX_vtaN7Z8k0Up5duQS5vlcrD7XhPk" rel="noopener nofollow" style="color: rgb(56\, 88\, 152)\; cursor: pointer\; text-decoration-line: none\; font-family: inherit\;" target="_blank">https://forms.gle/b11nLbstp2wbkJVj7</a></span></span></div>\n\n<div class="_2cuy _3dgx _2vxa" style="direction: ltr\; white-space: pre-wrap\; margin: 0px\; padding: 6px 0px 0px\; font-family: Helvetica\, Arial\, sans-serif\; color: rgb(29\, 33\, 41)\; font-size: 14px\;"><span style="font-size:18px\;">&#120142\;&#120150\; &#120167\;&#120146\;&#120157\;&#120166\;&#120150\; &amp\; &#120146\;&#120161\;&#120161\;&#120163\;&#120150\;&#120148\;&#120154\;&#120146\;&#120165\;&#120150\; &#120144\;&#120134\;&#120140\;&#8477\; &#120151\;&#120150\;&#120150\;&#120149\;&#120147\;&#120146\;&#120148\;&#120156\;!</span></div>\n<br />\n&nbsp\;
LOCATION:This month's meeting will be held on Zoom! Please RSVP and the link will be sent to you on Wednesday before the meeting....the link is also posted in the private A-Team group page on Facebook.
UID:e.257.20914
SEQUENCE:3
DTSTAMP:20260421T135306Z
URL:http://members.greaterstillwaterchamber.com/events/details/ambassador-meeting-on-zoom-10-27-2020-20914
END:VEVENT

END:VCALENDAR
