BEGIN:VCALENDAR
VERSION:2.0
PRODID:-//ChamberMaster//Event Calendar 2.0//EN
METHOD:PUBLISH
X-PUBLISHED-TTL:P3D
REFRESH-INTERVAL:P3D
CALSCALE:GREGORIAN
BEGIN:VEVENT
DTSTART:20261012T230000Z
DTEND:20261013T010000Z
X-MICROSOFT-CDO-ALLDAYEVENT:FALSE
SUMMARY:Afton/Bayport/Lakeland Lions Club Meeting
DESCRIPTION:Join us while we plan events and opportunities for a way to give back to our community and the world.
X-ALT-DESC;FMTTYPE=text/html:Join us while we plan events and opportunities for a way to give back to our community and the world.
LOCATION:Bayport Public Library 582 4th St N\, Bayport
UID:e.257.43094
SEQUENCE:3
DTSTAMP:20260421T221311Z
URL:http://members.greaterstillwaterchamber.com/events/details/afton-bayport-lakeland-lions-club-meeting-10-12-2026-43094
END:VEVENT

END:VCALENDAR
